BEGIN:VCALENDAR
VERSION:2.0
PRODID:-//achurchnearyou.com//eventfeed//EN
CALSCALE:GREGORIAN
METHOD:PUBLISH
X-WR-TIMEZONE:UTC
BEGIN:VEVENT
SUMMARY:Mass of Easter Day
DTSTART:20260405T090000Z
DTEND:20260405T101500Z
DTSTAMP:20260422T131729Z
UID:13187952026-04-05 09:00:00+00:00achurchnearyou
CATEGORIES:
DESCRIPTION:With Easter Eggs
GEO:-0.095473;51.490682
LOCATION:St John's Church\, Walworth
URL:https://www.achurchnearyou.com/church/860/service-and-events/events/13
 18795/
END:VEVENT
END:VCALENDAR
