BEGIN:VCALENDAR
VERSION:2.0
PRODID:-//achurchnearyou.com//eventfeed//EN
CALSCALE:GREGORIAN
METHOD:PUBLISH
X-WR-TIMEZONE:UTC
BEGIN:VEVENT
SUMMARY:Farmers Market 10-2 Sat 20th September 2025
DTSTART:20250920T090000Z
DTEND:20250920T130000Z
DTSTAMP:20260422T143934Z
UID:12168202025-09-20 09:00:00+00:00achurchnearyou
CATEGORIES:
DESCRIPTION:A popular regular community event supporting farmers with chee
 se / delicatessen / bread / beer / honey / meat and other stalls. There is
  (free) live music\, Kitchen and Tableware Recycling and Plant stalls (the
  only ones in aid of church funds). This Sat 20th Sept we have 6 steelpan 
 bands playing out on the Green\, Irish songs sung in church from 10.15 and
  a group of young musicians singing and playing on flute & guitar from 12:
 00. Coffee and cakes in aid of Macmillan Cancer Support will be held in ch
 urch during the Market. We would love to see you!
GEO:-1.6245;55.0038
LOCATION:All Saints Gosforth
URL:https://www.achurchnearyou.com/church/8605/service-and-events/events/1
 216820/
END:VEVENT
END:VCALENDAR
