BEGIN:VCALENDAR
VERSION:2.0
PRODID:-//achurchnearyou.com//eventfeed//EN
CALSCALE:GREGORIAN
METHOD:PUBLISH
X-WR-TIMEZONE:UTC
BEGIN:VEVENT
SUMMARY:Free Live Music Sat 20th September at All Saints Farmers' Market
DTSTART:20250920T090000Z
DTEND:20250920T123000Z
DTSTAMP:20260422T143923Z
UID:12241632025-09-20 09:00:00+00:00achurchnearyou
CATEGORIES:
DESCRIPTION:All Saints Gosforth will be welcoming amateur musicians again 
 to provide entertainment for visitors to the Farmers' Market and for the M
 acmillan Cancer Support event being held inside church. \nLIVE MUSIC!\n10.
 15 – 11.45   Irish songs Rita & Clare 											in church\n           \
 n12.00 - Natalie & friends - flute\, guitar & singing 								        in c
 hurch \nFancy playing at our free music community events? \nJust ask!
GEO:-1.6245;55.0038
LOCATION:All Saints Gosforth
URL:https://www.achurchnearyou.com/church/8605/service-and-events/events/1
 224163/
END:VEVENT
END:VCALENDAR
