BEGIN:VCALENDAR
VERSION:2.0
PRODID:-//achurchnearyou.com//eventfeed//EN
CALSCALE:GREGORIAN
METHOD:PUBLISH
X-WR-TIMEZONE:UTC
BEGIN:VEVENT
SUMMARY:Art & Craft Workshop Get Creative with Buttons!
DTSTART:20251011T133000Z
DTEND:20251011T150000Z
DTSTAMP:20260422T123646Z
UID:12297052025-10-11 13:30:00+00:00achurchnearyou
CATEGORIES:
DESCRIPTION:A popular workshop when children & adults prepare artistic cre
 ations for display at or after services.
GEO:-1.6245;55.0038
LOCATION:All Saints Gosforth
URL:https://www.achurchnearyou.com/church/8605/service-and-events/events/1
 229705/
END:VEVENT
END:VCALENDAR
