BEGIN:VCALENDAR
VERSION:2.0
PRODID:-//achurchnearyou.com//eventfeed//EN
CALSCALE:GREGORIAN
METHOD:PUBLISH
X-WR-TIMEZONE:UTC
BEGIN:VEVENT
SUMMARY:Carol Singing
DTSTART:20251209T180000Z
DTEND:20251209T190000Z
DTSTAMP:20260422T085358Z
UID:12440772025-12-09 18:00:00+00:00achurchnearyou
CATEGORIES:
DESCRIPTION:Carol singing from Church. Come along and get in the spirit of
  the season!
GEO:-1.6245;55.0038
LOCATION:All Saints Gosforth
URL:https://www.achurchnearyou.com/church/8605/service-and-events/events/1
 244077/
END:VEVENT
END:VCALENDAR
