BEGIN:VCALENDAR
VERSION:2.0
PRODID:-//achurchnearyou.com//eventfeed//EN
CALSCALE:GREGORIAN
METHOD:PUBLISH
X-WR-TIMEZONE:UTC
BEGIN:VEVENT
SUMMARY:Palm Sunday Reading of the Passion Gospel
DTSTART:20260329T100000Z
DTEND:20260329T110000Z
DTSTAMP:20260422T233222Z
UID:12882692026-03-29 10:00:00+00:00achurchnearyou
CATEGORIES:
DESCRIPTION:Join us at St Mildred's for out reading of the Passion Gospel
GEO:1.073612;51.276667
LOCATION:St Mildred
URL:https://www.achurchnearyou.com/church/8619/service-and-events/events/1
 288269/
END:VEVENT
END:VCALENDAR
