BEGIN:VCALENDAR
VERSION:2.0
PRODID:-//achurchnearyou.com//eventfeed//EN
CALSCALE:GREGORIAN
METHOD:PUBLISH
X-WR-TIMEZONE:UTC
BEGIN:VEVENT
SUMMARY:Holy Communion
DTSTART;TZID=Europe/London:20260405T111500
DTEND;TZID=Europe/London:20260405T121500
DTSTAMP:20260424T115328Z
UID:11423551775384100.0achurchnearyou
CATEGORIES:
DESCRIPTION:Monthly celebration of the Eucharist with hymns and refreshmen
 ts afterwards
GEO:-3.363626;50.719162
LOCATION:Blessed Virgin Mary
URL:https://www.achurchnearyou.com/church/8620/service-and-events/events/1
 142355/
END:VEVENT
BEGIN:VEVENT
SUMMARY:Family Service
DTSTART;TZID=Europe/London:20260419T093000
DTEND;TZID=Europe/London:20260419T103000
DTSTAMP:20260424T115328Z
UID:11423601776587400.0achurchnearyou
CATEGORIES:
DESCRIPTION:A relaxed informal service of the word that is aimed at famili
 es and young people.
GEO:-3.363626;50.719162
LOCATION:Blessed Virgin Mary
URL:https://www.achurchnearyou.com/church/8620/service-and-events/events/1
 142360/
END:VEVENT
BEGIN:VEVENT
SUMMARY:Holy Communion
DTSTART;TZID=Europe/London:20260503T111500
DTEND;TZID=Europe/London:20260503T121500
DTSTAMP:20260424T115328Z
UID:11423551777803300.0achurchnearyou
CATEGORIES:
DESCRIPTION:Monthly celebration of the Eucharist with hymns and refreshmen
 ts afterwards
GEO:-3.363626;50.719162
LOCATION:Blessed Virgin Mary
URL:https://www.achurchnearyou.com/church/8620/service-and-events/events/1
 142355/
END:VEVENT
BEGIN:VEVENT
SUMMARY:Family Service
DTSTART;TZID=Europe/London:20260517T093000
DTEND;TZID=Europe/London:20260517T103000
DTSTAMP:20260424T115328Z
UID:11423601779006600.0achurchnearyou
CATEGORIES:
DESCRIPTION:A relaxed informal service of the word that is aimed at famili
 es and young people.
GEO:-3.363626;50.719162
LOCATION:Blessed Virgin Mary
URL:https://www.achurchnearyou.com/church/8620/service-and-events/events/1
 142360/
END:VEVENT
BEGIN:VEVENT
SUMMARY:Holy Communion
DTSTART;TZID=Europe/London:20260607T111500
DTEND;TZID=Europe/London:20260607T121500
DTSTAMP:20260424T115328Z
UID:11423551780827300.0achurchnearyou
CATEGORIES:
DESCRIPTION:Monthly celebration of the Eucharist with hymns and refreshmen
 ts afterwards
GEO:-3.363626;50.719162
LOCATION:Blessed Virgin Mary
URL:https://www.achurchnearyou.com/church/8620/service-and-events/events/1
 142355/
END:VEVENT
BEGIN:VEVENT
SUMMARY:Family Service
DTSTART;TZID=Europe/London:20260621T093000
DTEND;TZID=Europe/London:20260621T103000
DTSTAMP:20260424T115328Z
UID:11423601782030600.0achurchnearyou
CATEGORIES:
DESCRIPTION:A relaxed informal service of the word that is aimed at famili
 es and young people.
GEO:-3.363626;50.719162
LOCATION:Blessed Virgin Mary
URL:https://www.achurchnearyou.com/church/8620/service-and-events/events/1
 142360/
END:VEVENT
BEGIN:VEVENT
SUMMARY:Holy Communion
DTSTART;TZID=Europe/London:20260705T111500
DTEND;TZID=Europe/London:20260705T121500
DTSTAMP:20260424T115328Z
UID:11423551783246500.0achurchnearyou
CATEGORIES:
DESCRIPTION:Monthly celebration of the Eucharist with hymns and refreshmen
 ts afterwards
GEO:-3.363626;50.719162
LOCATION:Blessed Virgin Mary
URL:https://www.achurchnearyou.com/church/8620/service-and-events/events/1
 142355/
END:VEVENT
BEGIN:VEVENT
SUMMARY:Holy Communion
DTSTART;TZID=Europe/London:20260705T111500
DTEND;TZID=Europe/London:20260705T121500
DTSTAMP:20260424T115328Z
UID:12528781783246500.0achurchnearyou
CATEGORIES:
DESCRIPTION:11.15am
GEO:-3.363626;50.719162
LOCATION:Blessed Virgin Mary
URL:https://www.achurchnearyou.com/church/8620/service-and-events/events/1
 252878/
END:VEVENT
BEGIN:VEVENT
SUMMARY:Family Service
DTSTART;TZID=Europe/London:20260719T093000
DTEND;TZID=Europe/London:20260719T103000
DTSTAMP:20260424T115328Z
UID:11423601784449800.0achurchnearyou
CATEGORIES:
DESCRIPTION:A relaxed informal service of the word that is aimed at famili
 es and young people.
GEO:-3.363626;50.719162
LOCATION:Blessed Virgin Mary
URL:https://www.achurchnearyou.com/church/8620/service-and-events/events/1
 142360/
END:VEVENT
BEGIN:VEVENT
SUMMARY:Holy Communion
DTSTART;TZID=Europe/London:20260802T111500
DTEND;TZID=Europe/London:20260802T121500
DTSTAMP:20260424T115328Z
UID:11423551785665700.0achurchnearyou
CATEGORIES:
DESCRIPTION:Monthly celebration of the Eucharist with hymns and refreshmen
 ts afterwards
GEO:-3.363626;50.719162
LOCATION:Blessed Virgin Mary
URL:https://www.achurchnearyou.com/church/8620/service-and-events/events/1
 142355/
END:VEVENT
BEGIN:VEVENT
SUMMARY:Holy Communion
DTSTART;TZID=Europe/London:20260802T111500
DTEND;TZID=Europe/London:20260802T121500
DTSTAMP:20260424T115328Z
UID:12528781785665700.0achurchnearyou
CATEGORIES:
DESCRIPTION:11.15am
GEO:-3.363626;50.719162
LOCATION:Blessed Virgin Mary
URL:https://www.achurchnearyou.com/church/8620/service-and-events/events/1
 252878/
END:VEVENT
BEGIN:VEVENT
SUMMARY:Family Service
DTSTART;TZID=Europe/London:20260816T093000
DTEND;TZID=Europe/London:20260816T103000
DTSTAMP:20260424T115328Z
UID:11423601786869000.0achurchnearyou
CATEGORIES:
DESCRIPTION:A relaxed informal service of the word that is aimed at famili
 es and young people.
GEO:-3.363626;50.719162
LOCATION:Blessed Virgin Mary
URL:https://www.achurchnearyou.com/church/8620/service-and-events/events/1
 142360/
END:VEVENT
BEGIN:VEVENT
SUMMARY:Holy Communion
DTSTART;TZID=Europe/London:20260906T111500
DTEND;TZID=Europe/London:20260906T121500
DTSTAMP:20260424T115328Z
UID:11423551788689700.0achurchnearyou
CATEGORIES:
DESCRIPTION:Monthly celebration of the Eucharist with hymns and refreshmen
 ts afterwards
GEO:-3.363626;50.719162
LOCATION:Blessed Virgin Mary
URL:https://www.achurchnearyou.com/church/8620/service-and-events/events/1
 142355/
END:VEVENT
BEGIN:VEVENT
SUMMARY:Holy Communion
DTSTART;TZID=Europe/London:20260906T111500
DTEND;TZID=Europe/London:20260906T121500
DTSTAMP:20260424T115328Z
UID:12528781788689700.0achurchnearyou
CATEGORIES:
DESCRIPTION:11.15am
GEO:-3.363626;50.719162
LOCATION:Blessed Virgin Mary
URL:https://www.achurchnearyou.com/church/8620/service-and-events/events/1
 252878/
END:VEVENT
BEGIN:VEVENT
SUMMARY:Family Service
DTSTART;TZID=Europe/London:20260920T093000
DTEND;TZID=Europe/London:20260920T103000
DTSTAMP:20260424T115328Z
UID:11423601789893000.0achurchnearyou
CATEGORIES:
DESCRIPTION:A relaxed informal service of the word that is aimed at famili
 es and young people.
GEO:-3.363626;50.719162
LOCATION:Blessed Virgin Mary
URL:https://www.achurchnearyou.com/church/8620/service-and-events/events/1
 142360/
END:VEVENT
END:VCALENDAR
