BEGIN:VCALENDAR
VERSION:2.0
PRODID:-//achurchnearyou.com//eventfeed//EN
CALSCALE:GREGORIAN
METHOD:PUBLISH
X-WR-TIMEZONE:UTC
BEGIN:VEVENT
SUMMARY:FRIENDS OF LITTLEHAM CHURCHYARD VOLUNTEER GROUP
DTSTART:20260307T100000Z
DTEND:20260307T113000Z
DTSTAMP:20260422T233151Z
UID:13048332026-03-07 10:00:00+00:00achurchnearyou
CATEGORIES:
DESCRIPTION:Come and join us as we enjoy making 'dead hedges' - eco friend
 ly wildlife havens\, in tune with the environment. Have fun in the churchy
 ard and help us to make a difference. Refreshments included!
GEO:-3.373934;50.623266
LOCATION:St Margaret and St Andrews Church
URL:https://www.achurchnearyou.com/church/8633/service-and-events/events/1
 304833/
END:VEVENT
END:VCALENDAR
