BEGIN:VCALENDAR
VERSION:2.0
PRODID:-//achurchnearyou.com//eventfeed//EN
CALSCALE:GREGORIAN
METHOD:PUBLISH
X-WR-TIMEZONE:UTC
BEGIN:VEVENT
SUMMARY:Alpha
DTSTART;TZID=Europe/London:20260421T190000
DTEND;TZID=Europe/London:20260421T203000
DTSTAMP:20260420T141210Z
UID:13237332026-04-21 19:00:00+01:00achurchnearyou
CATEGORIES:
DESCRIPTION:Meet new people and explore the Christian faith together.\nAlp
 ha is for anyone who’s curious. No judgement\, no pressure.\nEach sessio
 n unpacks a big question of life\, faith and purpose\, and is designed to 
 spark conversation. \nCome along\, see what you think.\n\nTuesday 21st  Ap
 ril \, 7 pm at St Margaret & St Andrew’s Church\, Littleham Road\, Exmou
 th.
LOCATION:St Margaret and St Andrews Church
URL:https://www.achurchnearyou.com/church/8634/service-and-events/events/1
 323733/
END:VEVENT
BEGIN:VEVENT
SUMMARY:Alpha
DTSTART;TZID=Europe/London:20260428T190000
DTEND;TZID=Europe/London:20260428T203000
DTSTAMP:20260420T141210Z
UID:13237332026-04-28 19:00:00+01:00achurchnearyou
CATEGORIES:
DESCRIPTION:Meet new people and explore the Christian faith together.\nAlp
 ha is for anyone who’s curious. No judgement\, no pressure.\nEach sessio
 n unpacks a big question of life\, faith and purpose\, and is designed to 
 spark conversation. \nCome along\, see what you think.\n\nTuesday 21st  Ap
 ril \, 7 pm at St Margaret & St Andrew’s Church\, Littleham Road\, Exmou
 th.
LOCATION:St Margaret and St Andrews Church
URL:https://www.achurchnearyou.com/church/8634/service-and-events/events/1
 323733/
END:VEVENT
BEGIN:VEVENT
SUMMARY:Alpha
DTSTART;TZID=Europe/London:20260505T190000
DTEND;TZID=Europe/London:20260505T203000
DTSTAMP:20260420T141210Z
UID:13237332026-05-05 19:00:00+01:00achurchnearyou
CATEGORIES:
DESCRIPTION:Meet new people and explore the Christian faith together.\nAlp
 ha is for anyone who’s curious. No judgement\, no pressure.\nEach sessio
 n unpacks a big question of life\, faith and purpose\, and is designed to 
 spark conversation. \nCome along\, see what you think.\n\nTuesday 21st  Ap
 ril \, 7 pm at St Margaret & St Andrew’s Church\, Littleham Road\, Exmou
 th.
LOCATION:St Margaret and St Andrews Church
URL:https://www.achurchnearyou.com/church/8634/service-and-events/events/1
 323733/
END:VEVENT
BEGIN:VEVENT
SUMMARY:Alpha
DTSTART;TZID=Europe/London:20260512T190000
DTEND;TZID=Europe/London:20260512T203000
DTSTAMP:20260420T141210Z
UID:13237332026-05-12 19:00:00+01:00achurchnearyou
CATEGORIES:
DESCRIPTION:Meet new people and explore the Christian faith together.\nAlp
 ha is for anyone who’s curious. No judgement\, no pressure.\nEach sessio
 n unpacks a big question of life\, faith and purpose\, and is designed to 
 spark conversation. \nCome along\, see what you think.\n\nTuesday 21st  Ap
 ril \, 7 pm at St Margaret & St Andrew’s Church\, Littleham Road\, Exmou
 th.
LOCATION:St Margaret and St Andrews Church
URL:https://www.achurchnearyou.com/church/8634/service-and-events/events/1
 323733/
END:VEVENT
BEGIN:VEVENT
SUMMARY:Alpha
DTSTART;TZID=Europe/London:20260519T190000
DTEND;TZID=Europe/London:20260519T203000
DTSTAMP:20260420T141210Z
UID:13237332026-05-19 19:00:00+01:00achurchnearyou
CATEGORIES:
DESCRIPTION:Meet new people and explore the Christian faith together.\nAlp
 ha is for anyone who’s curious. No judgement\, no pressure.\nEach sessio
 n unpacks a big question of life\, faith and purpose\, and is designed to 
 spark conversation. \nCome along\, see what you think.\n\nTuesday 21st  Ap
 ril \, 7 pm at St Margaret & St Andrew’s Church\, Littleham Road\, Exmou
 th.
LOCATION:St Margaret and St Andrews Church
URL:https://www.achurchnearyou.com/church/8634/service-and-events/events/1
 323733/
END:VEVENT
BEGIN:VEVENT
SUMMARY:Alpha
DTSTART;TZID=Europe/London:20260526T190000
DTEND;TZID=Europe/London:20260526T203000
DTSTAMP:20260420T141210Z
UID:13237332026-05-26 19:00:00+01:00achurchnearyou
CATEGORIES:
DESCRIPTION:Meet new people and explore the Christian faith together.\nAlp
 ha is for anyone who’s curious. No judgement\, no pressure.\nEach sessio
 n unpacks a big question of life\, faith and purpose\, and is designed to 
 spark conversation. \nCome along\, see what you think.\n\nTuesday 21st  Ap
 ril \, 7 pm at St Margaret & St Andrew’s Church\, Littleham Road\, Exmou
 th.
LOCATION:St Margaret and St Andrews Church
URL:https://www.achurchnearyou.com/church/8634/service-and-events/events/1
 323733/
END:VEVENT
BEGIN:VEVENT
SUMMARY:Alpha
DTSTART;TZID=Europe/London:20260602T190000
DTEND;TZID=Europe/London:20260602T203000
DTSTAMP:20260420T141210Z
UID:13237332026-06-02 19:00:00+01:00achurchnearyou
CATEGORIES:
DESCRIPTION:Meet new people and explore the Christian faith together.\nAlp
 ha is for anyone who’s curious. No judgement\, no pressure.\nEach sessio
 n unpacks a big question of life\, faith and purpose\, and is designed to 
 spark conversation. \nCome along\, see what you think.\n\nTuesday 21st  Ap
 ril \, 7 pm at St Margaret & St Andrew’s Church\, Littleham Road\, Exmou
 th.
LOCATION:St Margaret and St Andrews Church
URL:https://www.achurchnearyou.com/church/8634/service-and-events/events/1
 323733/
END:VEVENT
BEGIN:VEVENT
SUMMARY:Alpha
DTSTART;TZID=Europe/London:20260609T190000
DTEND;TZID=Europe/London:20260609T203000
DTSTAMP:20260420T141210Z
UID:13237332026-06-09 19:00:00+01:00achurchnearyou
CATEGORIES:
DESCRIPTION:Meet new people and explore the Christian faith together.\nAlp
 ha is for anyone who’s curious. No judgement\, no pressure.\nEach sessio
 n unpacks a big question of life\, faith and purpose\, and is designed to 
 spark conversation. \nCome along\, see what you think.\n\nTuesday 21st  Ap
 ril \, 7 pm at St Margaret & St Andrew’s Church\, Littleham Road\, Exmou
 th.
LOCATION:St Margaret and St Andrews Church
URL:https://www.achurchnearyou.com/church/8634/service-and-events/events/1
 323733/
END:VEVENT
BEGIN:VEVENT
SUMMARY:Alpha
DTSTART;TZID=Europe/London:20260616T190000
DTEND;TZID=Europe/London:20260616T203000
DTSTAMP:20260420T141210Z
UID:13237332026-06-16 19:00:00+01:00achurchnearyou
CATEGORIES:
DESCRIPTION:Meet new people and explore the Christian faith together.\nAlp
 ha is for anyone who’s curious. No judgement\, no pressure.\nEach sessio
 n unpacks a big question of life\, faith and purpose\, and is designed to 
 spark conversation. \nCome along\, see what you think.\n\nTuesday 21st  Ap
 ril \, 7 pm at St Margaret & St Andrew’s Church\, Littleham Road\, Exmou
 th.
LOCATION:St Margaret and St Andrews Church
URL:https://www.achurchnearyou.com/church/8634/service-and-events/events/1
 323733/
END:VEVENT
BEGIN:VEVENT
SUMMARY:Alpha
DTSTART;TZID=Europe/London:20260623T190000
DTEND;TZID=Europe/London:20260623T203000
DTSTAMP:20260420T141210Z
UID:13237332026-06-23 19:00:00+01:00achurchnearyou
CATEGORIES:
DESCRIPTION:Meet new people and explore the Christian faith together.\nAlp
 ha is for anyone who’s curious. No judgement\, no pressure.\nEach sessio
 n unpacks a big question of life\, faith and purpose\, and is designed to 
 spark conversation. \nCome along\, see what you think.\n\nTuesday 21st  Ap
 ril \, 7 pm at St Margaret & St Andrew’s Church\, Littleham Road\, Exmou
 th.
LOCATION:St Margaret and St Andrews Church
URL:https://www.achurchnearyou.com/church/8634/service-and-events/events/1
 323733/
END:VEVENT
BEGIN:VEVENT
SUMMARY:Alpha
DTSTART;TZID=Europe/London:20260630T190000
DTEND;TZID=Europe/London:20260630T203000
DTSTAMP:20260420T141210Z
UID:13237332026-06-30 19:00:00+01:00achurchnearyou
CATEGORIES:
DESCRIPTION:Meet new people and explore the Christian faith together.\nAlp
 ha is for anyone who’s curious. No judgement\, no pressure.\nEach sessio
 n unpacks a big question of life\, faith and purpose\, and is designed to 
 spark conversation. \nCome along\, see what you think.\n\nTuesday 21st  Ap
 ril \, 7 pm at St Margaret & St Andrew’s Church\, Littleham Road\, Exmou
 th.
LOCATION:St Margaret and St Andrews Church
URL:https://www.achurchnearyou.com/church/8634/service-and-events/events/1
 323733/
END:VEVENT
BEGIN:VEVENT
SUMMARY:Alpha
DTSTART;TZID=Europe/London:20260707T190000
DTEND;TZID=Europe/London:20260707T203000
DTSTAMP:20260420T141210Z
UID:13237332026-07-07 19:00:00+01:00achurchnearyou
CATEGORIES:
DESCRIPTION:Meet new people and explore the Christian faith together.\nAlp
 ha is for anyone who’s curious. No judgement\, no pressure.\nEach sessio
 n unpacks a big question of life\, faith and purpose\, and is designed to 
 spark conversation. \nCome along\, see what you think.\n\nTuesday 21st  Ap
 ril \, 7 pm at St Margaret & St Andrew’s Church\, Littleham Road\, Exmou
 th.
LOCATION:St Margaret and St Andrews Church
URL:https://www.achurchnearyou.com/church/8634/service-and-events/events/1
 323733/
END:VEVENT
END:VCALENDAR
