BEGIN:VCALENDAR
VERSION:2.0
PRODID:-//achurchnearyou.com//eventfeed//EN
CALSCALE:GREGORIAN
METHOD:PUBLISH
X-WR-TIMEZONE:UTC
BEGIN:VEVENT
SUMMARY:Stay and Play
DTSTART;TZID=Europe/London:20250901T100000
DTEND;TZID=Europe/London:20250901T113000
DTSTAMP:20260423T204155Z
UID:12251942025-09-01 10:00:00+01:00achurchnearyou
CATEGORIES:
DESCRIPTION:Families are welcome to come into the church and use the child
 ren's resources for 'Stay and Play'. We are hoping that Mini Messy Church 
 will start again in due course.
GEO:-3.465816;50.682704
LOCATION:St Margaret's Church\, Topsham
URL:https://www.achurchnearyou.com/church/8641/service-and-events/events/1
 225194/
END:VEVENT
BEGIN:VEVENT
SUMMARY:Stay and Play
DTSTART;TZID=Europe/London:20250904T100000
DTEND;TZID=Europe/London:20250904T113000
DTSTAMP:20260423T204155Z
UID:12251942025-09-04 10:00:00+01:00achurchnearyou
CATEGORIES:
DESCRIPTION:Families are welcome to come into the church and use the child
 ren's resources for 'Stay and Play'. We are hoping that Mini Messy Church 
 will start again in due course.
GEO:-3.465816;50.682704
LOCATION:St Margaret's Church\, Topsham
URL:https://www.achurchnearyou.com/church/8641/service-and-events/events/1
 225194/
END:VEVENT
BEGIN:VEVENT
SUMMARY:Stay and Play
DTSTART;TZID=Europe/London:20250908T100000
DTEND;TZID=Europe/London:20250908T113000
DTSTAMP:20260423T204155Z
UID:12251942025-09-08 10:00:00+01:00achurchnearyou
CATEGORIES:
DESCRIPTION:Families are welcome to come into the church and use the child
 ren's resources for 'Stay and Play'. We are hoping that Mini Messy Church 
 will start again in due course.
GEO:-3.465816;50.682704
LOCATION:St Margaret's Church\, Topsham
URL:https://www.achurchnearyou.com/church/8641/service-and-events/events/1
 225194/
END:VEVENT
BEGIN:VEVENT
SUMMARY:Stay and Play
DTSTART;TZID=Europe/London:20250911T100000
DTEND;TZID=Europe/London:20250911T113000
DTSTAMP:20260423T204155Z
UID:12251942025-09-11 10:00:00+01:00achurchnearyou
CATEGORIES:
DESCRIPTION:Families are welcome to come into the church and use the child
 ren's resources for 'Stay and Play'. We are hoping that Mini Messy Church 
 will start again in due course.
GEO:-3.465816;50.682704
LOCATION:St Margaret's Church\, Topsham
URL:https://www.achurchnearyou.com/church/8641/service-and-events/events/1
 225194/
END:VEVENT
BEGIN:VEVENT
SUMMARY:Stay and Play
DTSTART;TZID=Europe/London:20250915T100000
DTEND;TZID=Europe/London:20250915T113000
DTSTAMP:20260423T204155Z
UID:12251942025-09-15 10:00:00+01:00achurchnearyou
CATEGORIES:
DESCRIPTION:Families are welcome to come into the church and use the child
 ren's resources for 'Stay and Play'. We are hoping that Mini Messy Church 
 will start again in due course.
GEO:-3.465816;50.682704
LOCATION:St Margaret's Church\, Topsham
URL:https://www.achurchnearyou.com/church/8641/service-and-events/events/1
 225194/
END:VEVENT
BEGIN:VEVENT
SUMMARY:Stay and Play
DTSTART;TZID=Europe/London:20250918T100000
DTEND;TZID=Europe/London:20250918T113000
DTSTAMP:20260423T204155Z
UID:12251942025-09-18 10:00:00+01:00achurchnearyou
CATEGORIES:
DESCRIPTION:Families are welcome to come into the church and use the child
 ren's resources for 'Stay and Play'. We are hoping that Mini Messy Church 
 will start again in due course.
GEO:-3.465816;50.682704
LOCATION:St Margaret's Church\, Topsham
URL:https://www.achurchnearyou.com/church/8641/service-and-events/events/1
 225194/
END:VEVENT
BEGIN:VEVENT
SUMMARY:Stay and Play
DTSTART;TZID=Europe/London:20250922T100000
DTEND;TZID=Europe/London:20250922T113000
DTSTAMP:20260423T204155Z
UID:12251942025-09-22 10:00:00+01:00achurchnearyou
CATEGORIES:
DESCRIPTION:Families are welcome to come into the church and use the child
 ren's resources for 'Stay and Play'. We are hoping that Mini Messy Church 
 will start again in due course.
GEO:-3.465816;50.682704
LOCATION:St Margaret's Church\, Topsham
URL:https://www.achurchnearyou.com/church/8641/service-and-events/events/1
 225194/
END:VEVENT
BEGIN:VEVENT
SUMMARY:Stay and Play
DTSTART;TZID=Europe/London:20250925T100000
DTEND;TZID=Europe/London:20250925T113000
DTSTAMP:20260423T204155Z
UID:12251942025-09-25 10:00:00+01:00achurchnearyou
CATEGORIES:
DESCRIPTION:Families are welcome to come into the church and use the child
 ren's resources for 'Stay and Play'. We are hoping that Mini Messy Church 
 will start again in due course.
GEO:-3.465816;50.682704
LOCATION:St Margaret's Church\, Topsham
URL:https://www.achurchnearyou.com/church/8641/service-and-events/events/1
 225194/
END:VEVENT
BEGIN:VEVENT
SUMMARY:Stay and Play
DTSTART;TZID=Europe/London:20250929T100000
DTEND;TZID=Europe/London:20250929T113000
DTSTAMP:20260423T204155Z
UID:12251942025-09-29 10:00:00+01:00achurchnearyou
CATEGORIES:
DESCRIPTION:Families are welcome to come into the church and use the child
 ren's resources for 'Stay and Play'. We are hoping that Mini Messy Church 
 will start again in due course.
GEO:-3.465816;50.682704
LOCATION:St Margaret's Church\, Topsham
URL:https://www.achurchnearyou.com/church/8641/service-and-events/events/1
 225194/
END:VEVENT
BEGIN:VEVENT
SUMMARY:Stay and Play
DTSTART;TZID=Europe/London:20251002T100000
DTEND;TZID=Europe/London:20251002T113000
DTSTAMP:20260423T204155Z
UID:12251942025-10-02 10:00:00+01:00achurchnearyou
CATEGORIES:
DESCRIPTION:Families are welcome to come into the church and use the child
 ren's resources for 'Stay and Play'. We are hoping that Mini Messy Church 
 will start again in due course.
GEO:-3.465816;50.682704
LOCATION:St Margaret's Church\, Topsham
URL:https://www.achurchnearyou.com/church/8641/service-and-events/events/1
 225194/
END:VEVENT
BEGIN:VEVENT
SUMMARY:Stay and Play
DTSTART;TZID=Europe/London:20251006T100000
DTEND;TZID=Europe/London:20251006T113000
DTSTAMP:20260423T204155Z
UID:12251942025-10-06 10:00:00+01:00achurchnearyou
CATEGORIES:
DESCRIPTION:Families are welcome to come into the church and use the child
 ren's resources for 'Stay and Play'. We are hoping that Mini Messy Church 
 will start again in due course.
GEO:-3.465816;50.682704
LOCATION:St Margaret's Church\, Topsham
URL:https://www.achurchnearyou.com/church/8641/service-and-events/events/1
 225194/
END:VEVENT
BEGIN:VEVENT
SUMMARY:Stay and Play
DTSTART;TZID=Europe/London:20251009T100000
DTEND;TZID=Europe/London:20251009T113000
DTSTAMP:20260423T204155Z
UID:12251942025-10-09 10:00:00+01:00achurchnearyou
CATEGORIES:
DESCRIPTION:Families are welcome to come into the church and use the child
 ren's resources for 'Stay and Play'. We are hoping that Mini Messy Church 
 will start again in due course.
GEO:-3.465816;50.682704
LOCATION:St Margaret's Church\, Topsham
URL:https://www.achurchnearyou.com/church/8641/service-and-events/events/1
 225194/
END:VEVENT
BEGIN:VEVENT
SUMMARY:Stay and Play
DTSTART;TZID=Europe/London:20251013T100000
DTEND;TZID=Europe/London:20251013T113000
DTSTAMP:20260423T204155Z
UID:12251942025-10-13 10:00:00+01:00achurchnearyou
CATEGORIES:
DESCRIPTION:Families are welcome to come into the church and use the child
 ren's resources for 'Stay and Play'. We are hoping that Mini Messy Church 
 will start again in due course.
GEO:-3.465816;50.682704
LOCATION:St Margaret's Church\, Topsham
URL:https://www.achurchnearyou.com/church/8641/service-and-events/events/1
 225194/
END:VEVENT
BEGIN:VEVENT
SUMMARY:Stay and Play
DTSTART;TZID=Europe/London:20251016T100000
DTEND;TZID=Europe/London:20251016T113000
DTSTAMP:20260423T204155Z
UID:12251942025-10-16 10:00:00+01:00achurchnearyou
CATEGORIES:
DESCRIPTION:Families are welcome to come into the church and use the child
 ren's resources for 'Stay and Play'. We are hoping that Mini Messy Church 
 will start again in due course.
GEO:-3.465816;50.682704
LOCATION:St Margaret's Church\, Topsham
URL:https://www.achurchnearyou.com/church/8641/service-and-events/events/1
 225194/
END:VEVENT
BEGIN:VEVENT
SUMMARY:Stay and Play
DTSTART;TZID=Europe/London:20251020T100000
DTEND;TZID=Europe/London:20251020T113000
DTSTAMP:20260423T204155Z
UID:12251942025-10-20 10:00:00+01:00achurchnearyou
CATEGORIES:
DESCRIPTION:Families are welcome to come into the church and use the child
 ren's resources for 'Stay and Play'. We are hoping that Mini Messy Church 
 will start again in due course.
GEO:-3.465816;50.682704
LOCATION:St Margaret's Church\, Topsham
URL:https://www.achurchnearyou.com/church/8641/service-and-events/events/1
 225194/
END:VEVENT
BEGIN:VEVENT
SUMMARY:Stay and Play
DTSTART;TZID=Europe/London:20251023T100000
DTEND;TZID=Europe/London:20251023T113000
DTSTAMP:20260423T204155Z
UID:12251942025-10-23 10:00:00+01:00achurchnearyou
CATEGORIES:
DESCRIPTION:Families are welcome to come into the church and use the child
 ren's resources for 'Stay and Play'. We are hoping that Mini Messy Church 
 will start again in due course.
GEO:-3.465816;50.682704
LOCATION:St Margaret's Church\, Topsham
URL:https://www.achurchnearyou.com/church/8641/service-and-events/events/1
 225194/
END:VEVENT
BEGIN:VEVENT
SUMMARY:Stay and Play
DTSTART;TZID=Europe/London:20251027T100000
DTEND;TZID=Europe/London:20251027T113000
DTSTAMP:20260423T204155Z
UID:12251942025-10-27 10:00:00+00:00achurchnearyou
CATEGORIES:
DESCRIPTION:Families are welcome to come into the church and use the child
 ren's resources for 'Stay and Play'. We are hoping that Mini Messy Church 
 will start again in due course.
GEO:-3.465816;50.682704
LOCATION:St Margaret's Church\, Topsham
URL:https://www.achurchnearyou.com/church/8641/service-and-events/events/1
 225194/
END:VEVENT
BEGIN:VEVENT
SUMMARY:Stay and Play
DTSTART;TZID=Europe/London:20251030T100000
DTEND;TZID=Europe/London:20251030T113000
DTSTAMP:20260423T204155Z
UID:12251942025-10-30 10:00:00+00:00achurchnearyou
CATEGORIES:
DESCRIPTION:Families are welcome to come into the church and use the child
 ren's resources for 'Stay and Play'. We are hoping that Mini Messy Church 
 will start again in due course.
GEO:-3.465816;50.682704
LOCATION:St Margaret's Church\, Topsham
URL:https://www.achurchnearyou.com/church/8641/service-and-events/events/1
 225194/
END:VEVENT
BEGIN:VEVENT
SUMMARY:Stay and Play
DTSTART;TZID=Europe/London:20251103T100000
DTEND;TZID=Europe/London:20251103T113000
DTSTAMP:20260423T204155Z
UID:12251942025-11-03 10:00:00+00:00achurchnearyou
CATEGORIES:
DESCRIPTION:Families are welcome to come into the church and use the child
 ren's resources for 'Stay and Play'. We are hoping that Mini Messy Church 
 will start again in due course.
GEO:-3.465816;50.682704
LOCATION:St Margaret's Church\, Topsham
URL:https://www.achurchnearyou.com/church/8641/service-and-events/events/1
 225194/
END:VEVENT
BEGIN:VEVENT
SUMMARY:Stay and Play
DTSTART;TZID=Europe/London:20251106T100000
DTEND;TZID=Europe/London:20251106T113000
DTSTAMP:20260423T204155Z
UID:12251942025-11-06 10:00:00+00:00achurchnearyou
CATEGORIES:
DESCRIPTION:Families are welcome to come into the church and use the child
 ren's resources for 'Stay and Play'. We are hoping that Mini Messy Church 
 will start again in due course.
GEO:-3.465816;50.682704
LOCATION:St Margaret's Church\, Topsham
URL:https://www.achurchnearyou.com/church/8641/service-and-events/events/1
 225194/
END:VEVENT
BEGIN:VEVENT
SUMMARY:Stay and Play
DTSTART;TZID=Europe/London:20251110T100000
DTEND;TZID=Europe/London:20251110T113000
DTSTAMP:20260423T204155Z
UID:12251942025-11-10 10:00:00+00:00achurchnearyou
CATEGORIES:
DESCRIPTION:Families are welcome to come into the church and use the child
 ren's resources for 'Stay and Play'. We are hoping that Mini Messy Church 
 will start again in due course.
GEO:-3.465816;50.682704
LOCATION:St Margaret's Church\, Topsham
URL:https://www.achurchnearyou.com/church/8641/service-and-events/events/1
 225194/
END:VEVENT
BEGIN:VEVENT
SUMMARY:Stay and Play
DTSTART;TZID=Europe/London:20251113T100000
DTEND;TZID=Europe/London:20251113T113000
DTSTAMP:20260423T204155Z
UID:12251942025-11-13 10:00:00+00:00achurchnearyou
CATEGORIES:
DESCRIPTION:Families are welcome to come into the church and use the child
 ren's resources for 'Stay and Play'. We are hoping that Mini Messy Church 
 will start again in due course.
GEO:-3.465816;50.682704
LOCATION:St Margaret's Church\, Topsham
URL:https://www.achurchnearyou.com/church/8641/service-and-events/events/1
 225194/
END:VEVENT
BEGIN:VEVENT
SUMMARY:Stay and Play
DTSTART;TZID=Europe/London:20251117T100000
DTEND;TZID=Europe/London:20251117T113000
DTSTAMP:20260423T204155Z
UID:12251942025-11-17 10:00:00+00:00achurchnearyou
CATEGORIES:
DESCRIPTION:Families are welcome to come into the church and use the child
 ren's resources for 'Stay and Play'. We are hoping that Mini Messy Church 
 will start again in due course.
GEO:-3.465816;50.682704
LOCATION:St Margaret's Church\, Topsham
URL:https://www.achurchnearyou.com/church/8641/service-and-events/events/1
 225194/
END:VEVENT
BEGIN:VEVENT
SUMMARY:Stay and Play
DTSTART;TZID=Europe/London:20251120T100000
DTEND;TZID=Europe/London:20251120T113000
DTSTAMP:20260423T204155Z
UID:12251942025-11-20 10:00:00+00:00achurchnearyou
CATEGORIES:
DESCRIPTION:Families are welcome to come into the church and use the child
 ren's resources for 'Stay and Play'. We are hoping that Mini Messy Church 
 will start again in due course.
GEO:-3.465816;50.682704
LOCATION:St Margaret's Church\, Topsham
URL:https://www.achurchnearyou.com/church/8641/service-and-events/events/1
 225194/
END:VEVENT
BEGIN:VEVENT
SUMMARY:Stay and Play
DTSTART;TZID=Europe/London:20251124T100000
DTEND;TZID=Europe/London:20251124T113000
DTSTAMP:20260423T204155Z
UID:12251942025-11-24 10:00:00+00:00achurchnearyou
CATEGORIES:
DESCRIPTION:Families are welcome to come into the church and use the child
 ren's resources for 'Stay and Play'. We are hoping that Mini Messy Church 
 will start again in due course.
GEO:-3.465816;50.682704
LOCATION:St Margaret's Church\, Topsham
URL:https://www.achurchnearyou.com/church/8641/service-and-events/events/1
 225194/
END:VEVENT
BEGIN:VEVENT
SUMMARY:Stay and Play
DTSTART;TZID=Europe/London:20251127T100000
DTEND;TZID=Europe/London:20251127T113000
DTSTAMP:20260423T204155Z
UID:12251942025-11-27 10:00:00+00:00achurchnearyou
CATEGORIES:
DESCRIPTION:Families are welcome to come into the church and use the child
 ren's resources for 'Stay and Play'. We are hoping that Mini Messy Church 
 will start again in due course.
GEO:-3.465816;50.682704
LOCATION:St Margaret's Church\, Topsham
URL:https://www.achurchnearyou.com/church/8641/service-and-events/events/1
 225194/
END:VEVENT
BEGIN:VEVENT
SUMMARY:Stay and Play
DTSTART;TZID=Europe/London:20251201T100000
DTEND;TZID=Europe/London:20251201T113000
DTSTAMP:20260423T204155Z
UID:12251942025-12-01 10:00:00+00:00achurchnearyou
CATEGORIES:
DESCRIPTION:Families are welcome to come into the church and use the child
 ren's resources for 'Stay and Play'. We are hoping that Mini Messy Church 
 will start again in due course.
GEO:-3.465816;50.682704
LOCATION:St Margaret's Church\, Topsham
URL:https://www.achurchnearyou.com/church/8641/service-and-events/events/1
 225194/
END:VEVENT
BEGIN:VEVENT
SUMMARY:Stay and Play
DTSTART;TZID=Europe/London:20251204T100000
DTEND;TZID=Europe/London:20251204T113000
DTSTAMP:20260423T204155Z
UID:12251942025-12-04 10:00:00+00:00achurchnearyou
CATEGORIES:
DESCRIPTION:Families are welcome to come into the church and use the child
 ren's resources for 'Stay and Play'. We are hoping that Mini Messy Church 
 will start again in due course.
GEO:-3.465816;50.682704
LOCATION:St Margaret's Church\, Topsham
URL:https://www.achurchnearyou.com/church/8641/service-and-events/events/1
 225194/
END:VEVENT
BEGIN:VEVENT
SUMMARY:Stay and Play
DTSTART;TZID=Europe/London:20251208T100000
DTEND;TZID=Europe/London:20251208T113000
DTSTAMP:20260423T204155Z
UID:12251942025-12-08 10:00:00+00:00achurchnearyou
CATEGORIES:
DESCRIPTION:Families are welcome to come into the church and use the child
 ren's resources for 'Stay and Play'. We are hoping that Mini Messy Church 
 will start again in due course.
GEO:-3.465816;50.682704
LOCATION:St Margaret's Church\, Topsham
URL:https://www.achurchnearyou.com/church/8641/service-and-events/events/1
 225194/
END:VEVENT
BEGIN:VEVENT
SUMMARY:Stay and Play
DTSTART;TZID=Europe/London:20251211T100000
DTEND;TZID=Europe/London:20251211T113000
DTSTAMP:20260423T204155Z
UID:12251942025-12-11 10:00:00+00:00achurchnearyou
CATEGORIES:
DESCRIPTION:Families are welcome to come into the church and use the child
 ren's resources for 'Stay and Play'. We are hoping that Mini Messy Church 
 will start again in due course.
GEO:-3.465816;50.682704
LOCATION:St Margaret's Church\, Topsham
URL:https://www.achurchnearyou.com/church/8641/service-and-events/events/1
 225194/
END:VEVENT
BEGIN:VEVENT
SUMMARY:Stay and Play
DTSTART;TZID=Europe/London:20251215T100000
DTEND;TZID=Europe/London:20251215T113000
DTSTAMP:20260423T204155Z
UID:12251942025-12-15 10:00:00+00:00achurchnearyou
CATEGORIES:
DESCRIPTION:Families are welcome to come into the church and use the child
 ren's resources for 'Stay and Play'. We are hoping that Mini Messy Church 
 will start again in due course.
GEO:-3.465816;50.682704
LOCATION:St Margaret's Church\, Topsham
URL:https://www.achurchnearyou.com/church/8641/service-and-events/events/1
 225194/
END:VEVENT
BEGIN:VEVENT
SUMMARY:Stay and Play
DTSTART;TZID=Europe/London:20251218T100000
DTEND;TZID=Europe/London:20251218T113000
DTSTAMP:20260423T204155Z
UID:12251942025-12-18 10:00:00+00:00achurchnearyou
CATEGORIES:
DESCRIPTION:Families are welcome to come into the church and use the child
 ren's resources for 'Stay and Play'. We are hoping that Mini Messy Church 
 will start again in due course.
GEO:-3.465816;50.682704
LOCATION:St Margaret's Church\, Topsham
URL:https://www.achurchnearyou.com/church/8641/service-and-events/events/1
 225194/
END:VEVENT
BEGIN:VEVENT
SUMMARY:Stay and Play
DTSTART;TZID=Europe/London:20251222T100000
DTEND;TZID=Europe/London:20251222T113000
DTSTAMP:20260423T204155Z
UID:12251942025-12-22 10:00:00+00:00achurchnearyou
CATEGORIES:
DESCRIPTION:Families are welcome to come into the church and use the child
 ren's resources for 'Stay and Play'. We are hoping that Mini Messy Church 
 will start again in due course.
GEO:-3.465816;50.682704
LOCATION:St Margaret's Church\, Topsham
URL:https://www.achurchnearyou.com/church/8641/service-and-events/events/1
 225194/
END:VEVENT
END:VCALENDAR
