BEGIN:VCALENDAR
VERSION:2.0
PRODID:-//achurchnearyou.com//eventfeed//EN
CALSCALE:GREGORIAN
METHOD:PUBLISH
X-WR-TIMEZONE:UTC
BEGIN:VEVENT
SUMMARY:Christmas Eve & Christmas Day Services
DTSTART:20251127T000000Z
DTEND:20251226T001500Z
DTSTAMP:20260424T030746Z
UID:12589972025-11-27 00:00:00+00:00achurchnearyou
CATEGORIES:
DESCRIPTION:Wednesday 24th December 2025 - CHRISTMAS EVE\nChristingle Serv
 ices at 2.00 pm\, 4.00 pm & 6.00 pm\n\nMidnight Mass  - 11.30 pm\, with ca
 rols and the blessing of the Christmas Crib\n\nThursday\, 25th December 20
 25  -  CHRISTMAS DAY\nFamily Eucharist - 10.30 am\, with carols\, and ligh
 ting of the fifth candle of the Advent Wreath
GEO:-3.375935;50.641895
LOCATION:St John in the Wilderness
URL:https://www.achurchnearyou.com/church/8643/service-and-events/events/1
 258997/
END:VEVENT
END:VCALENDAR
