BEGIN:VCALENDAR
VERSION:2.0
PRODID:-//achurchnearyou.com//eventfeed//EN
CALSCALE:GREGORIAN
METHOD:PUBLISH
X-WR-TIMEZONE:UTC
BEGIN:VEVENT
SUMMARY:Morning Prayer
DTSTART;TZID=Europe/London:20260510T104500
DTEND;TZID=Europe/London:20260510T113500
DTSTAMP:20260423T192647Z
UID:1237462026-05-10 10:45:00+01:00achurchnearyou
CATEGORIES:
DESCRIPTION:Lay Led service
GEO:-3.850418;50.853598
LOCATION:St Matthew
URL:https://www.achurchnearyou.com/church/8656/service-and-events/events/1
 23746/
END:VEVENT
BEGIN:VEVENT
SUMMARY:Morning Prayer
DTSTART;TZID=Europe/London:20260614T104500
DTEND;TZID=Europe/London:20260614T113500
DTSTAMP:20260423T192647Z
UID:1237462026-06-14 10:45:00+01:00achurchnearyou
CATEGORIES:
DESCRIPTION:Lay Led service
GEO:-3.850418;50.853598
LOCATION:St Matthew
URL:https://www.achurchnearyou.com/church/8656/service-and-events/events/1
 23746/
END:VEVENT
BEGIN:VEVENT
SUMMARY:Morning Prayer
DTSTART;TZID=Europe/London:20260712T104500
DTEND;TZID=Europe/London:20260712T113500
DTSTAMP:20260423T192647Z
UID:1237462026-07-12 10:45:00+01:00achurchnearyou
CATEGORIES:
DESCRIPTION:Lay Led service
GEO:-3.850418;50.853598
LOCATION:St Matthew
URL:https://www.achurchnearyou.com/church/8656/service-and-events/events/1
 23746/
END:VEVENT
BEGIN:VEVENT
SUMMARY:Morning Prayer
DTSTART;TZID=Europe/London:20260809T104500
DTEND;TZID=Europe/London:20260809T113500
DTSTAMP:20260423T192647Z
UID:1237462026-08-09 10:45:00+01:00achurchnearyou
CATEGORIES:
DESCRIPTION:Lay Led service
GEO:-3.850418;50.853598
LOCATION:St Matthew
URL:https://www.achurchnearyou.com/church/8656/service-and-events/events/1
 23746/
END:VEVENT
BEGIN:VEVENT
SUMMARY:Morning Prayer
DTSTART;TZID=Europe/London:20260913T104500
DTEND;TZID=Europe/London:20260913T113500
DTSTAMP:20260423T192647Z
UID:1237462026-09-13 10:45:00+01:00achurchnearyou
CATEGORIES:
DESCRIPTION:Lay Led service
GEO:-3.850418;50.853598
LOCATION:St Matthew
URL:https://www.achurchnearyou.com/church/8656/service-and-events/events/1
 23746/
END:VEVENT
BEGIN:VEVENT
SUMMARY:Morning Prayer
DTSTART;TZID=Europe/London:20261011T104500
DTEND;TZID=Europe/London:20261011T113500
DTSTAMP:20260423T192647Z
UID:1237462026-10-11 10:45:00+01:00achurchnearyou
CATEGORIES:
DESCRIPTION:Lay Led service
GEO:-3.850418;50.853598
LOCATION:St Matthew
URL:https://www.achurchnearyou.com/church/8656/service-and-events/events/1
 23746/
END:VEVENT
BEGIN:VEVENT
SUMMARY:Morning Prayer
DTSTART;TZID=Europe/London:20261108T104500
DTEND;TZID=Europe/London:20261108T113500
DTSTAMP:20260423T192647Z
UID:1237462026-11-08 10:45:00+00:00achurchnearyou
CATEGORIES:
DESCRIPTION:Lay Led service
GEO:-3.850418;50.853598
LOCATION:St Matthew
URL:https://www.achurchnearyou.com/church/8656/service-and-events/events/1
 23746/
END:VEVENT
BEGIN:VEVENT
SUMMARY:Morning Prayer
DTSTART;TZID=Europe/London:20261213T104500
DTEND;TZID=Europe/London:20261213T113500
DTSTAMP:20260423T192647Z
UID:1237462026-12-13 10:45:00+00:00achurchnearyou
CATEGORIES:
DESCRIPTION:Lay Led service
GEO:-3.850418;50.853598
LOCATION:St Matthew
URL:https://www.achurchnearyou.com/church/8656/service-and-events/events/1
 23746/
END:VEVENT
BEGIN:VEVENT
SUMMARY:Morning Prayer
DTSTART;TZID=Europe/London:20270110T104500
DTEND;TZID=Europe/London:20270110T113500
DTSTAMP:20260423T192647Z
UID:1237462027-01-10 10:45:00+00:00achurchnearyou
CATEGORIES:
DESCRIPTION:Lay Led service
GEO:-3.850418;50.853598
LOCATION:St Matthew
URL:https://www.achurchnearyou.com/church/8656/service-and-events/events/1
 23746/
END:VEVENT
BEGIN:VEVENT
SUMMARY:Morning Prayer
DTSTART;TZID=Europe/London:20270214T104500
DTEND;TZID=Europe/London:20270214T113500
DTSTAMP:20260423T192647Z
UID:1237462027-02-14 10:45:00+00:00achurchnearyou
CATEGORIES:
DESCRIPTION:Lay Led service
GEO:-3.850418;50.853598
LOCATION:St Matthew
URL:https://www.achurchnearyou.com/church/8656/service-and-events/events/1
 23746/
END:VEVENT
BEGIN:VEVENT
SUMMARY:Morning Prayer
DTSTART;TZID=Europe/London:20270314T104500
DTEND;TZID=Europe/London:20270314T113500
DTSTAMP:20260423T192647Z
UID:1237462027-03-14 10:45:00+00:00achurchnearyou
CATEGORIES:
DESCRIPTION:Lay Led service
GEO:-3.850418;50.853598
LOCATION:St Matthew
URL:https://www.achurchnearyou.com/church/8656/service-and-events/events/1
 23746/
END:VEVENT
BEGIN:VEVENT
SUMMARY:Morning Prayer
DTSTART;TZID=Europe/London:20270411T104500
DTEND;TZID=Europe/London:20270411T113500
DTSTAMP:20260423T192647Z
UID:1237462027-04-11 10:45:00+01:00achurchnearyou
CATEGORIES:
DESCRIPTION:Lay Led service
GEO:-3.850418;50.853598
LOCATION:St Matthew
URL:https://www.achurchnearyou.com/church/8656/service-and-events/events/1
 23746/
END:VEVENT
END:VCALENDAR
