BEGIN:VCALENDAR
VERSION:2.0
PRODID:-//achurchnearyou.com//eventfeed//EN
CALSCALE:GREGORIAN
METHOD:PUBLISH
X-WR-TIMEZONE:UTC
BEGIN:VEVENT
SUMMARY:Church Cafe
DTSTART;TZID=Europe/London:20260406T143000
DTEND;TZID=Europe/London:20260406T160000
DTSTAMP:20260423T205228Z
UID:1237381775482200.0achurchnearyou
CATEGORIES:
DESCRIPTION:Everyone welcome for tea cake\, chat and laughter.
GEO:-3.850418;50.853598
LOCATION:St Matthew
URL:https://www.achurchnearyou.com/church/8656/service-and-events/events/1
 23738/
END:VEVENT
BEGIN:VEVENT
SUMMARY:Morning Prayer
DTSTART;TZID=Europe/London:20260412T104500
DTEND;TZID=Europe/London:20260412T113000
DTSTAMP:20260423T205228Z
UID:1237441775987100.0achurchnearyou
CATEGORIES:
DESCRIPTION:...
GEO:-3.850418;50.853598
LOCATION:St Matthew
URL:https://www.achurchnearyou.com/church/8656/service-and-events/events/1
 23744/
END:VEVENT
BEGIN:VEVENT
SUMMARY:Morning Prayer
DTSTART;TZID=Europe/London:20260412T104500
DTEND;TZID=Europe/London:20260412T113500
DTSTAMP:20260423T205228Z
UID:1237461775987100.0achurchnearyou
CATEGORIES:
DESCRIPTION:Lay Led service
GEO:-3.850418;50.853598
LOCATION:St Matthew
URL:https://www.achurchnearyou.com/church/8656/service-and-events/events/1
 23746/
END:VEVENT
BEGIN:VEVENT
SUMMARY:Holy Communion (Common Worship)
DTSTART;TZID=Europe/London:20260419T103000
DTEND;TZID=Europe/London:20260419T113000
DTSTAMP:20260423T205228Z
UID:1237401776591000.0achurchnearyou
CATEGORIES:
DESCRIPTION:Followed by refreshments
GEO:-3.850418;50.853598
LOCATION:St Matthew
URL:https://www.achurchnearyou.com/church/8656/service-and-events/events/1
 23740/
END:VEVENT
BEGIN:VEVENT
SUMMARY:Church Cafe
DTSTART;TZID=Europe/London:20260504T143000
DTEND;TZID=Europe/London:20260504T160000
DTSTAMP:20260423T205228Z
UID:1237381777901400.0achurchnearyou
CATEGORIES:
DESCRIPTION:Everyone welcome for tea cake\, chat and laughter.
GEO:-3.850418;50.853598
LOCATION:St Matthew
URL:https://www.achurchnearyou.com/church/8656/service-and-events/events/1
 23738/
END:VEVENT
BEGIN:VEVENT
SUMMARY:Morning Prayer
DTSTART;TZID=Europe/London:20260510T104500
DTEND;TZID=Europe/London:20260510T113000
DTSTAMP:20260423T205228Z
UID:1237441778406300.0achurchnearyou
CATEGORIES:
DESCRIPTION:...
GEO:-3.850418;50.853598
LOCATION:St Matthew
URL:https://www.achurchnearyou.com/church/8656/service-and-events/events/1
 23744/
END:VEVENT
BEGIN:VEVENT
SUMMARY:Morning Prayer
DTSTART;TZID=Europe/London:20260510T104500
DTEND;TZID=Europe/London:20260510T113500
DTSTAMP:20260423T205228Z
UID:1237461778406300.0achurchnearyou
CATEGORIES:
DESCRIPTION:Lay Led service
GEO:-3.850418;50.853598
LOCATION:St Matthew
URL:https://www.achurchnearyou.com/church/8656/service-and-events/events/1
 23746/
END:VEVENT
BEGIN:VEVENT
SUMMARY:Holy Communion (Common Worship)
DTSTART;TZID=Europe/London:20260517T103000
DTEND;TZID=Europe/London:20260517T113000
DTSTAMP:20260423T205228Z
UID:1237401779010200.0achurchnearyou
CATEGORIES:
DESCRIPTION:Followed by refreshments
GEO:-3.850418;50.853598
LOCATION:St Matthew
URL:https://www.achurchnearyou.com/church/8656/service-and-events/events/1
 23740/
END:VEVENT
BEGIN:VEVENT
SUMMARY:Church Cafe
DTSTART;TZID=Europe/London:20260601T143000
DTEND;TZID=Europe/London:20260601T160000
DTSTAMP:20260423T205228Z
UID:1237381780320600.0achurchnearyou
CATEGORIES:
DESCRIPTION:Everyone welcome for tea cake\, chat and laughter.
GEO:-3.850418;50.853598
LOCATION:St Matthew
URL:https://www.achurchnearyou.com/church/8656/service-and-events/events/1
 23738/
END:VEVENT
BEGIN:VEVENT
SUMMARY:Morning Prayer
DTSTART;TZID=Europe/London:20260614T104500
DTEND;TZID=Europe/London:20260614T113000
DTSTAMP:20260423T205228Z
UID:1237441781430300.0achurchnearyou
CATEGORIES:
DESCRIPTION:...
GEO:-3.850418;50.853598
LOCATION:St Matthew
URL:https://www.achurchnearyou.com/church/8656/service-and-events/events/1
 23744/
END:VEVENT
BEGIN:VEVENT
SUMMARY:Morning Prayer
DTSTART;TZID=Europe/London:20260614T104500
DTEND;TZID=Europe/London:20260614T113500
DTSTAMP:20260423T205228Z
UID:1237461781430300.0achurchnearyou
CATEGORIES:
DESCRIPTION:Lay Led service
GEO:-3.850418;50.853598
LOCATION:St Matthew
URL:https://www.achurchnearyou.com/church/8656/service-and-events/events/1
 23746/
END:VEVENT
BEGIN:VEVENT
SUMMARY:Holy Communion (Common Worship)
DTSTART;TZID=Europe/London:20260621T103000
DTEND;TZID=Europe/London:20260621T113000
DTSTAMP:20260423T205228Z
UID:1237401782034200.0achurchnearyou
CATEGORIES:
DESCRIPTION:Followed by refreshments
GEO:-3.850418;50.853598
LOCATION:St Matthew
URL:https://www.achurchnearyou.com/church/8656/service-and-events/events/1
 23740/
END:VEVENT
BEGIN:VEVENT
SUMMARY:Church Cafe
DTSTART;TZID=Europe/London:20260706T143000
DTEND;TZID=Europe/London:20260706T160000
DTSTAMP:20260423T205228Z
UID:1237381783344600.0achurchnearyou
CATEGORIES:
DESCRIPTION:Everyone welcome for tea cake\, chat and laughter.
GEO:-3.850418;50.853598
LOCATION:St Matthew
URL:https://www.achurchnearyou.com/church/8656/service-and-events/events/1
 23738/
END:VEVENT
BEGIN:VEVENT
SUMMARY:Morning Prayer
DTSTART;TZID=Europe/London:20260712T104500
DTEND;TZID=Europe/London:20260712T113000
DTSTAMP:20260423T205228Z
UID:1237441783849500.0achurchnearyou
CATEGORIES:
DESCRIPTION:...
GEO:-3.850418;50.853598
LOCATION:St Matthew
URL:https://www.achurchnearyou.com/church/8656/service-and-events/events/1
 23744/
END:VEVENT
BEGIN:VEVENT
SUMMARY:Morning Prayer
DTSTART;TZID=Europe/London:20260712T104500
DTEND;TZID=Europe/London:20260712T113500
DTSTAMP:20260423T205228Z
UID:1237461783849500.0achurchnearyou
CATEGORIES:
DESCRIPTION:Lay Led service
GEO:-3.850418;50.853598
LOCATION:St Matthew
URL:https://www.achurchnearyou.com/church/8656/service-and-events/events/1
 23746/
END:VEVENT
BEGIN:VEVENT
SUMMARY:Holy Communion (Common Worship)
DTSTART;TZID=Europe/London:20260719T103000
DTEND;TZID=Europe/London:20260719T113000
DTSTAMP:20260423T205228Z
UID:1237401784453400.0achurchnearyou
CATEGORIES:
DESCRIPTION:Followed by refreshments
GEO:-3.850418;50.853598
LOCATION:St Matthew
URL:https://www.achurchnearyou.com/church/8656/service-and-events/events/1
 23740/
END:VEVENT
BEGIN:VEVENT
SUMMARY:Church Cafe
DTSTART;TZID=Europe/London:20260803T143000
DTEND;TZID=Europe/London:20260803T160000
DTSTAMP:20260423T205228Z
UID:1237381785763800.0achurchnearyou
CATEGORIES:
DESCRIPTION:Everyone welcome for tea cake\, chat and laughter.
GEO:-3.850418;50.853598
LOCATION:St Matthew
URL:https://www.achurchnearyou.com/church/8656/service-and-events/events/1
 23738/
END:VEVENT
BEGIN:VEVENT
SUMMARY:Morning Prayer
DTSTART;TZID=Europe/London:20260809T104500
DTEND;TZID=Europe/London:20260809T113000
DTSTAMP:20260423T205228Z
UID:1237441786268700.0achurchnearyou
CATEGORIES:
DESCRIPTION:...
GEO:-3.850418;50.853598
LOCATION:St Matthew
URL:https://www.achurchnearyou.com/church/8656/service-and-events/events/1
 23744/
END:VEVENT
BEGIN:VEVENT
SUMMARY:Morning Prayer
DTSTART;TZID=Europe/London:20260809T104500
DTEND;TZID=Europe/London:20260809T113500
DTSTAMP:20260423T205228Z
UID:1237461786268700.0achurchnearyou
CATEGORIES:
DESCRIPTION:Lay Led service
GEO:-3.850418;50.853598
LOCATION:St Matthew
URL:https://www.achurchnearyou.com/church/8656/service-and-events/events/1
 23746/
END:VEVENT
BEGIN:VEVENT
SUMMARY:Holy Communion (Common Worship)
DTSTART;TZID=Europe/London:20260816T103000
DTEND;TZID=Europe/London:20260816T113000
DTSTAMP:20260423T205229Z
UID:1237401786872600.0achurchnearyou
CATEGORIES:
DESCRIPTION:Followed by refreshments
GEO:-3.850418;50.853598
LOCATION:St Matthew
URL:https://www.achurchnearyou.com/church/8656/service-and-events/events/1
 23740/
END:VEVENT
BEGIN:VEVENT
SUMMARY:Church Cafe
DTSTART;TZID=Europe/London:20260907T143000
DTEND;TZID=Europe/London:20260907T160000
DTSTAMP:20260423T205229Z
UID:1237381788787800.0achurchnearyou
CATEGORIES:
DESCRIPTION:Everyone welcome for tea cake\, chat and laughter.
GEO:-3.850418;50.853598
LOCATION:St Matthew
URL:https://www.achurchnearyou.com/church/8656/service-and-events/events/1
 23738/
END:VEVENT
BEGIN:VEVENT
SUMMARY:Morning Prayer
DTSTART;TZID=Europe/London:20260913T104500
DTEND;TZID=Europe/London:20260913T113000
DTSTAMP:20260423T205229Z
UID:1237441789292700.0achurchnearyou
CATEGORIES:
DESCRIPTION:...
GEO:-3.850418;50.853598
LOCATION:St Matthew
URL:https://www.achurchnearyou.com/church/8656/service-and-events/events/1
 23744/
END:VEVENT
BEGIN:VEVENT
SUMMARY:Morning Prayer
DTSTART;TZID=Europe/London:20260913T104500
DTEND;TZID=Europe/London:20260913T113500
DTSTAMP:20260423T205229Z
UID:1237461789292700.0achurchnearyou
CATEGORIES:
DESCRIPTION:Lay Led service
GEO:-3.850418;50.853598
LOCATION:St Matthew
URL:https://www.achurchnearyou.com/church/8656/service-and-events/events/1
 23746/
END:VEVENT
BEGIN:VEVENT
SUMMARY:Holy Communion (Common Worship)
DTSTART;TZID=Europe/London:20260920T103000
DTEND;TZID=Europe/London:20260920T113000
DTSTAMP:20260423T205229Z
UID:1237401789896600.0achurchnearyou
CATEGORIES:
DESCRIPTION:Followed by refreshments
GEO:-3.850418;50.853598
LOCATION:St Matthew
URL:https://www.achurchnearyou.com/church/8656/service-and-events/events/1
 23740/
END:VEVENT
END:VCALENDAR
