BEGIN:VCALENDAR
VERSION:2.0
PRODID:-//achurchnearyou.com//eventfeed//EN
CALSCALE:GREGORIAN
METHOD:PUBLISH
X-WR-TIMEZONE:UTC
BEGIN:VEVENT
SUMMARY:Stations of the Cross
DTSTART;TZID=Europe/London:20260403T140000
DTEND;TZID=Europe/London:20260403T150000
DTSTAMP:20260421T005843Z
UID:12937271775221200.0achurchnearyou
CATEGORIES:
DESCRIPTION:Traditional service following the Passion Story
GEO:-3.803446;50.859844
LOCATION:St Thomas of Canterbury
URL:https://www.achurchnearyou.com/church/8661/service-and-events/events/1
 293727/
END:VEVENT
BEGIN:VEVENT
SUMMARY:Morning Prayer
DTSTART;TZID=Europe/London:20260405T093000
DTEND;TZID=Europe/London:20260405T101500
DTSTAMP:20260421T005843Z
UID:9106511775377800.0achurchnearyou
CATEGORIES:
DESCRIPTION:First\, Second and Third Sundays in each month\nA lay led serv
 ice with congregational participation.\nFollowed by refreshments and fello
 wship
GEO:-3.803446;50.859844
LOCATION:St Thomas of Canterbury
URL:https://www.achurchnearyou.com/church/8661/service-and-events/events/9
 10651/
END:VEVENT
BEGIN:VEVENT
SUMMARY:Book of Common Prayer Holy Communion
DTSTART;TZID=Europe/London:20260408T103000
DTEND;TZID=Europe/London:20260408T110000
DTSTAMP:20260421T005843Z
UID:8358451775640600.0achurchnearyou
CATEGORIES:
DESCRIPTION:A short and simple service according to the Book of Common Pra
 yer (1662) held in the Lady Chapel
GEO:-3.803446;50.859844
LOCATION:St Thomas of Canterbury
URL:https://www.achurchnearyou.com/church/8661/service-and-events/events/8
 35845/
END:VEVENT
BEGIN:VEVENT
SUMMARY:Morning Prayer
DTSTART;TZID=Europe/London:20260412T093000
DTEND;TZID=Europe/London:20260412T101500
DTSTAMP:20260421T005843Z
UID:9106511775982600.0achurchnearyou
CATEGORIES:
DESCRIPTION:First\, Second and Third Sundays in each month\nA lay led serv
 ice with congregational participation.\nFollowed by refreshments and fello
 wship
GEO:-3.803446;50.859844
LOCATION:St Thomas of Canterbury
URL:https://www.achurchnearyou.com/church/8661/service-and-events/events/9
 10651/
END:VEVENT
BEGIN:VEVENT
SUMMARY:Morning Prayer
DTSTART;TZID=Europe/London:20260419T093000
DTEND;TZID=Europe/London:20260419T101500
DTSTAMP:20260421T005843Z
UID:9106511776587400.0achurchnearyou
CATEGORIES:
DESCRIPTION:First\, Second and Third Sundays in each month\nA lay led serv
 ice with congregational participation.\nFollowed by refreshments and fello
 wship
GEO:-3.803446;50.859844
LOCATION:St Thomas of Canterbury
URL:https://www.achurchnearyou.com/church/8661/service-and-events/events/9
 10651/
END:VEVENT
BEGIN:VEVENT
SUMMARY:COMMON WORSHIP EUCHARIST
DTSTART;TZID=Europe/London:20260426T093000
DTEND;TZID=Europe/London:20260426T103000
DTSTAMP:20260421T005843Z
UID:5554091777192200.0achurchnearyou
CATEGORIES:
DESCRIPTION:COMMON WORSHIP EUCHARIST IN MODERN LANGUAGE. \nThe service is 
 conducted in a warm and welcoming atmosphere.  When there is a baptism thi
 s takes place first and a shorter family friendly service is used to inclu
 de all children present.\n\nWe have reverted o sharing the Cup
GEO:-3.803446;50.859844
LOCATION:St Thomas of Canterbury
URL:https://www.achurchnearyou.com/church/8661/service-and-events/events/5
 55409/
END:VEVENT
BEGIN:VEVENT
SUMMARY:Morning Prayer
DTSTART;TZID=Europe/London:20260503T093000
DTEND;TZID=Europe/London:20260503T101500
DTSTAMP:20260421T005843Z
UID:9106511777797000.0achurchnearyou
CATEGORIES:
DESCRIPTION:First\, Second and Third Sundays in each month\nA lay led serv
 ice with congregational participation.\nFollowed by refreshments and fello
 wship
GEO:-3.803446;50.859844
LOCATION:St Thomas of Canterbury
URL:https://www.achurchnearyou.com/church/8661/service-and-events/events/9
 10651/
END:VEVENT
BEGIN:VEVENT
SUMMARY:Morning Prayer
DTSTART;TZID=Europe/London:20260510T093000
DTEND;TZID=Europe/London:20260510T101500
DTSTAMP:20260421T005843Z
UID:9106511778401800.0achurchnearyou
CATEGORIES:
DESCRIPTION:First\, Second and Third Sundays in each month\nA lay led serv
 ice with congregational participation.\nFollowed by refreshments and fello
 wship
GEO:-3.803446;50.859844
LOCATION:St Thomas of Canterbury
URL:https://www.achurchnearyou.com/church/8661/service-and-events/events/9
 10651/
END:VEVENT
BEGIN:VEVENT
SUMMARY:Book of Common Prayer Holy Communion
DTSTART;TZID=Europe/London:20260513T103000
DTEND;TZID=Europe/London:20260513T110000
DTSTAMP:20260421T005843Z
UID:8358451778664600.0achurchnearyou
CATEGORIES:
DESCRIPTION:A short and simple service according to the Book of Common Pra
 yer (1662) held in the Lady Chapel
GEO:-3.803446;50.859844
LOCATION:St Thomas of Canterbury
URL:https://www.achurchnearyou.com/church/8661/service-and-events/events/8
 35845/
END:VEVENT
BEGIN:VEVENT
SUMMARY:Morning Prayer
DTSTART;TZID=Europe/London:20260517T093000
DTEND;TZID=Europe/London:20260517T101500
DTSTAMP:20260421T005843Z
UID:9106511779006600.0achurchnearyou
CATEGORIES:
DESCRIPTION:First\, Second and Third Sundays in each month\nA lay led serv
 ice with congregational participation.\nFollowed by refreshments and fello
 wship
GEO:-3.803446;50.859844
LOCATION:St Thomas of Canterbury
URL:https://www.achurchnearyou.com/church/8661/service-and-events/events/9
 10651/
END:VEVENT
BEGIN:VEVENT
SUMMARY:COMMON WORSHIP EUCHARIST
DTSTART;TZID=Europe/London:20260524T093000
DTEND;TZID=Europe/London:20260524T103000
DTSTAMP:20260421T005843Z
UID:5554091779611400.0achurchnearyou
CATEGORIES:
DESCRIPTION:COMMON WORSHIP EUCHARIST IN MODERN LANGUAGE. \nThe service is 
 conducted in a warm and welcoming atmosphere.  When there is a baptism thi
 s takes place first and a shorter family friendly service is used to inclu
 de all children present.\n\nWe have reverted o sharing the Cup
GEO:-3.803446;50.859844
LOCATION:St Thomas of Canterbury
URL:https://www.achurchnearyou.com/church/8661/service-and-events/events/5
 55409/
END:VEVENT
BEGIN:VEVENT
SUMMARY:Morning Prayer
DTSTART;TZID=Europe/London:20260607T093000
DTEND;TZID=Europe/London:20260607T101500
DTSTAMP:20260421T005843Z
UID:9106511780821000.0achurchnearyou
CATEGORIES:
DESCRIPTION:First\, Second and Third Sundays in each month\nA lay led serv
 ice with congregational participation.\nFollowed by refreshments and fello
 wship
GEO:-3.803446;50.859844
LOCATION:St Thomas of Canterbury
URL:https://www.achurchnearyou.com/church/8661/service-and-events/events/9
 10651/
END:VEVENT
BEGIN:VEVENT
SUMMARY:Book of Common Prayer Holy Communion
DTSTART;TZID=Europe/London:20260610T103000
DTEND;TZID=Europe/London:20260610T110000
DTSTAMP:20260421T005843Z
UID:8358451781083800.0achurchnearyou
CATEGORIES:
DESCRIPTION:A short and simple service according to the Book of Common Pra
 yer (1662) held in the Lady Chapel
GEO:-3.803446;50.859844
LOCATION:St Thomas of Canterbury
URL:https://www.achurchnearyou.com/church/8661/service-and-events/events/8
 35845/
END:VEVENT
BEGIN:VEVENT
SUMMARY:Morning Prayer
DTSTART;TZID=Europe/London:20260614T093000
DTEND;TZID=Europe/London:20260614T101500
DTSTAMP:20260421T005843Z
UID:9106511781425800.0achurchnearyou
CATEGORIES:
DESCRIPTION:First\, Second and Third Sundays in each month\nA lay led serv
 ice with congregational participation.\nFollowed by refreshments and fello
 wship
GEO:-3.803446;50.859844
LOCATION:St Thomas of Canterbury
URL:https://www.achurchnearyou.com/church/8661/service-and-events/events/9
 10651/
END:VEVENT
BEGIN:VEVENT
SUMMARY:Morning Prayer
DTSTART;TZID=Europe/London:20260621T093000
DTEND;TZID=Europe/London:20260621T101500
DTSTAMP:20260421T005843Z
UID:9106511782030600.0achurchnearyou
CATEGORIES:
DESCRIPTION:First\, Second and Third Sundays in each month\nA lay led serv
 ice with congregational participation.\nFollowed by refreshments and fello
 wship
GEO:-3.803446;50.859844
LOCATION:St Thomas of Canterbury
URL:https://www.achurchnearyou.com/church/8661/service-and-events/events/9
 10651/
END:VEVENT
BEGIN:VEVENT
SUMMARY:COMMON WORSHIP EUCHARIST
DTSTART;TZID=Europe/London:20260628T093000
DTEND;TZID=Europe/London:20260628T103000
DTSTAMP:20260421T005843Z
UID:5554091782635400.0achurchnearyou
CATEGORIES:
DESCRIPTION:COMMON WORSHIP EUCHARIST IN MODERN LANGUAGE. \nThe service is 
 conducted in a warm and welcoming atmosphere.  When there is a baptism thi
 s takes place first and a shorter family friendly service is used to inclu
 de all children present.\n\nWe have reverted o sharing the Cup
GEO:-3.803446;50.859844
LOCATION:St Thomas of Canterbury
URL:https://www.achurchnearyou.com/church/8661/service-and-events/events/5
 55409/
END:VEVENT
BEGIN:VEVENT
SUMMARY:Morning Prayer
DTSTART;TZID=Europe/London:20260705T093000
DTEND;TZID=Europe/London:20260705T101500
DTSTAMP:20260421T005843Z
UID:9106511783240200.0achurchnearyou
CATEGORIES:
DESCRIPTION:First\, Second and Third Sundays in each month\nA lay led serv
 ice with congregational participation.\nFollowed by refreshments and fello
 wship
GEO:-3.803446;50.859844
LOCATION:St Thomas of Canterbury
URL:https://www.achurchnearyou.com/church/8661/service-and-events/events/9
 10651/
END:VEVENT
BEGIN:VEVENT
SUMMARY:Book of Common Prayer Holy Communion
DTSTART;TZID=Europe/London:20260708T103000
DTEND;TZID=Europe/London:20260708T110000
DTSTAMP:20260421T005843Z
UID:8358451783503000.0achurchnearyou
CATEGORIES:
DESCRIPTION:A short and simple service according to the Book of Common Pra
 yer (1662) held in the Lady Chapel
GEO:-3.803446;50.859844
LOCATION:St Thomas of Canterbury
URL:https://www.achurchnearyou.com/church/8661/service-and-events/events/8
 35845/
END:VEVENT
BEGIN:VEVENT
SUMMARY:Morning Prayer
DTSTART;TZID=Europe/London:20260712T093000
DTEND;TZID=Europe/London:20260712T101500
DTSTAMP:20260421T005843Z
UID:9106511783845000.0achurchnearyou
CATEGORIES:
DESCRIPTION:First\, Second and Third Sundays in each month\nA lay led serv
 ice with congregational participation.\nFollowed by refreshments and fello
 wship
GEO:-3.803446;50.859844
LOCATION:St Thomas of Canterbury
URL:https://www.achurchnearyou.com/church/8661/service-and-events/events/9
 10651/
END:VEVENT
BEGIN:VEVENT
SUMMARY:Morning Prayer
DTSTART;TZID=Europe/London:20260719T093000
DTEND;TZID=Europe/London:20260719T101500
DTSTAMP:20260421T005843Z
UID:9106511784449800.0achurchnearyou
CATEGORIES:
DESCRIPTION:First\, Second and Third Sundays in each month\nA lay led serv
 ice with congregational participation.\nFollowed by refreshments and fello
 wship
GEO:-3.803446;50.859844
LOCATION:St Thomas of Canterbury
URL:https://www.achurchnearyou.com/church/8661/service-and-events/events/9
 10651/
END:VEVENT
BEGIN:VEVENT
SUMMARY:COMMON WORSHIP EUCHARIST
DTSTART;TZID=Europe/London:20260726T093000
DTEND;TZID=Europe/London:20260726T103000
DTSTAMP:20260421T005843Z
UID:5554091785054600.0achurchnearyou
CATEGORIES:
DESCRIPTION:COMMON WORSHIP EUCHARIST IN MODERN LANGUAGE. \nThe service is 
 conducted in a warm and welcoming atmosphere.  When there is a baptism thi
 s takes place first and a shorter family friendly service is used to inclu
 de all children present.\n\nWe have reverted o sharing the Cup
GEO:-3.803446;50.859844
LOCATION:St Thomas of Canterbury
URL:https://www.achurchnearyou.com/church/8661/service-and-events/events/5
 55409/
END:VEVENT
BEGIN:VEVENT
SUMMARY:Morning Prayer
DTSTART;TZID=Europe/London:20260802T093000
DTEND;TZID=Europe/London:20260802T101500
DTSTAMP:20260421T005843Z
UID:9106511785659400.0achurchnearyou
CATEGORIES:
DESCRIPTION:First\, Second and Third Sundays in each month\nA lay led serv
 ice with congregational participation.\nFollowed by refreshments and fello
 wship
GEO:-3.803446;50.859844
LOCATION:St Thomas of Canterbury
URL:https://www.achurchnearyou.com/church/8661/service-and-events/events/9
 10651/
END:VEVENT
BEGIN:VEVENT
SUMMARY:Morning Prayer
DTSTART;TZID=Europe/London:20260809T093000
DTEND;TZID=Europe/London:20260809T101500
DTSTAMP:20260421T005843Z
UID:9106511786264200.0achurchnearyou
CATEGORIES:
DESCRIPTION:First\, Second and Third Sundays in each month\nA lay led serv
 ice with congregational participation.\nFollowed by refreshments and fello
 wship
GEO:-3.803446;50.859844
LOCATION:St Thomas of Canterbury
URL:https://www.achurchnearyou.com/church/8661/service-and-events/events/9
 10651/
END:VEVENT
BEGIN:VEVENT
SUMMARY:Book of Common Prayer Holy Communion
DTSTART;TZID=Europe/London:20260812T103000
DTEND;TZID=Europe/London:20260812T110000
DTSTAMP:20260421T005843Z
UID:8358451786527000.0achurchnearyou
CATEGORIES:
DESCRIPTION:A short and simple service according to the Book of Common Pra
 yer (1662) held in the Lady Chapel
GEO:-3.803446;50.859844
LOCATION:St Thomas of Canterbury
URL:https://www.achurchnearyou.com/church/8661/service-and-events/events/8
 35845/
END:VEVENT
BEGIN:VEVENT
SUMMARY:Morning Prayer
DTSTART;TZID=Europe/London:20260816T093000
DTEND;TZID=Europe/London:20260816T101500
DTSTAMP:20260421T005843Z
UID:9106511786869000.0achurchnearyou
CATEGORIES:
DESCRIPTION:First\, Second and Third Sundays in each month\nA lay led serv
 ice with congregational participation.\nFollowed by refreshments and fello
 wship
GEO:-3.803446;50.859844
LOCATION:St Thomas of Canterbury
URL:https://www.achurchnearyou.com/church/8661/service-and-events/events/9
 10651/
END:VEVENT
BEGIN:VEVENT
SUMMARY:COMMON WORSHIP EUCHARIST
DTSTART;TZID=Europe/London:20260823T093000
DTEND;TZID=Europe/London:20260823T103000
DTSTAMP:20260421T005843Z
UID:5554091787473800.0achurchnearyou
CATEGORIES:
DESCRIPTION:COMMON WORSHIP EUCHARIST IN MODERN LANGUAGE. \nThe service is 
 conducted in a warm and welcoming atmosphere.  When there is a baptism thi
 s takes place first and a shorter family friendly service is used to inclu
 de all children present.\n\nWe have reverted o sharing the Cup
GEO:-3.803446;50.859844
LOCATION:St Thomas of Canterbury
URL:https://www.achurchnearyou.com/church/8661/service-and-events/events/5
 55409/
END:VEVENT
BEGIN:VEVENT
SUMMARY:Morning Prayer
DTSTART;TZID=Europe/London:20260906T093000
DTEND;TZID=Europe/London:20260906T101500
DTSTAMP:20260421T005843Z
UID:9106511788683400.0achurchnearyou
CATEGORIES:
DESCRIPTION:First\, Second and Third Sundays in each month\nA lay led serv
 ice with congregational participation.\nFollowed by refreshments and fello
 wship
GEO:-3.803446;50.859844
LOCATION:St Thomas of Canterbury
URL:https://www.achurchnearyou.com/church/8661/service-and-events/events/9
 10651/
END:VEVENT
BEGIN:VEVENT
SUMMARY:Book of Common Prayer Holy Communion
DTSTART;TZID=Europe/London:20260909T103000
DTEND;TZID=Europe/London:20260909T110000
DTSTAMP:20260421T005843Z
UID:8358451788946200.0achurchnearyou
CATEGORIES:
DESCRIPTION:A short and simple service according to the Book of Common Pra
 yer (1662) held in the Lady Chapel
GEO:-3.803446;50.859844
LOCATION:St Thomas of Canterbury
URL:https://www.achurchnearyou.com/church/8661/service-and-events/events/8
 35845/
END:VEVENT
BEGIN:VEVENT
SUMMARY:Morning Prayer
DTSTART;TZID=Europe/London:20260913T093000
DTEND;TZID=Europe/London:20260913T101500
DTSTAMP:20260421T005843Z
UID:9106511789288200.0achurchnearyou
CATEGORIES:
DESCRIPTION:First\, Second and Third Sundays in each month\nA lay led serv
 ice with congregational participation.\nFollowed by refreshments and fello
 wship
GEO:-3.803446;50.859844
LOCATION:St Thomas of Canterbury
URL:https://www.achurchnearyou.com/church/8661/service-and-events/events/9
 10651/
END:VEVENT
BEGIN:VEVENT
SUMMARY:Morning Prayer
DTSTART;TZID=Europe/London:20260920T093000
DTEND;TZID=Europe/London:20260920T101500
DTSTAMP:20260421T005843Z
UID:9106511789893000.0achurchnearyou
CATEGORIES:
DESCRIPTION:First\, Second and Third Sundays in each month\nA lay led serv
 ice with congregational participation.\nFollowed by refreshments and fello
 wship
GEO:-3.803446;50.859844
LOCATION:St Thomas of Canterbury
URL:https://www.achurchnearyou.com/church/8661/service-and-events/events/9
 10651/
END:VEVENT
BEGIN:VEVENT
SUMMARY:COMMON WORSHIP EUCHARIST
DTSTART;TZID=Europe/London:20260927T093000
DTEND;TZID=Europe/London:20260927T103000
DTSTAMP:20260421T005843Z
UID:5554091790497800.0achurchnearyou
CATEGORIES:
DESCRIPTION:COMMON WORSHIP EUCHARIST IN MODERN LANGUAGE. \nThe service is 
 conducted in a warm and welcoming atmosphere.  When there is a baptism thi
 s takes place first and a shorter family friendly service is used to inclu
 de all children present.\n\nWe have reverted o sharing the Cup
GEO:-3.803446;50.859844
LOCATION:St Thomas of Canterbury
URL:https://www.achurchnearyou.com/church/8661/service-and-events/events/5
 55409/
END:VEVENT
END:VCALENDAR
