BEGIN:VCALENDAR
VERSION:2.0
PRODID:-//achurchnearyou.com//eventfeed//EN
CALSCALE:GREGORIAN
METHOD:PUBLISH
X-WR-TIMEZONE:UTC
BEGIN:VEVENT
SUMMARY:Prayer Breakfast
DTSTART;TZID=Europe/London:20250503T080000
DTEND;TZID=Europe/London:20250503T090000
DTSTAMP:20260424T151920Z
UID:10875942025-05-03 08:00:00+01:00achurchnearyou
CATEGORIES:
DESCRIPTION:Prayer Breakfast\n\nA simple breakfast\, a hymn\, Bible readin
 g and prayer.\n\nThe themes for May will be:-\n\nOur focus for prayer this
  month are:\n•	On the 80th Anniversary of VE Day\, we remember those who
  fought and lost their lives.\n•	We pray for all those struggling with t
 heir mental health.\n•	We thank God for the work of Christian Aid and th
 e Big Brekkie being held today at St Luke’s Church for this charity.\n
 •	For our Devon County Show\, the show chaplains and Churches Together s
 tand at the show.\n•	 For all those suffering with MS and those living w
 ith Dementia\n•	We pray for our St Luke’s Mission link Ben & Katy Ray 
 and their work in Tanzania and Anne Plested supporting Bethlehem Bible Col
 lege\n•	Current affairs\n\nAll are welcome.
LOCATION:St Margaret's Church\, Topsham
URL:https://www.achurchnearyou.com/church/8688/service-and-events/events/1
 087594/
END:VEVENT
BEGIN:VEVENT
SUMMARY:Prayer Breakfast
DTSTART;TZID=Europe/London:20250607T080000
DTEND;TZID=Europe/London:20250607T090000
DTSTAMP:20260424T151920Z
UID:10875942025-06-07 08:00:00+01:00achurchnearyou
CATEGORIES:
DESCRIPTION:Prayer Breakfast\n\nA simple breakfast\, a hymn\, Bible readin
 g and prayer.\n\nThe themes for May will be:-\n\nOur focus for prayer this
  month are:\n•	On the 80th Anniversary of VE Day\, we remember those who
  fought and lost their lives.\n•	We pray for all those struggling with t
 heir mental health.\n•	We thank God for the work of Christian Aid and th
 e Big Brekkie being held today at St Luke’s Church for this charity.\n
 •	For our Devon County Show\, the show chaplains and Churches Together s
 tand at the show.\n•	 For all those suffering with MS and those living w
 ith Dementia\n•	We pray for our St Luke’s Mission link Ben & Katy Ray 
 and their work in Tanzania and Anne Plested supporting Bethlehem Bible Col
 lege\n•	Current affairs\n\nAll are welcome.
LOCATION:St Margaret's Church\, Topsham
URL:https://www.achurchnearyou.com/church/8688/service-and-events/events/1
 087594/
END:VEVENT
BEGIN:VEVENT
SUMMARY:Prayer Breakfast
DTSTART;TZID=Europe/London:20250705T080000
DTEND;TZID=Europe/London:20250705T090000
DTSTAMP:20260424T151920Z
UID:10875942025-07-05 08:00:00+01:00achurchnearyou
CATEGORIES:
DESCRIPTION:Prayer Breakfast\n\nA simple breakfast\, a hymn\, Bible readin
 g and prayer.\n\nThe themes for May will be:-\n\nOur focus for prayer this
  month are:\n•	On the 80th Anniversary of VE Day\, we remember those who
  fought and lost their lives.\n•	We pray for all those struggling with t
 heir mental health.\n•	We thank God for the work of Christian Aid and th
 e Big Brekkie being held today at St Luke’s Church for this charity.\n
 •	For our Devon County Show\, the show chaplains and Churches Together s
 tand at the show.\n•	 For all those suffering with MS and those living w
 ith Dementia\n•	We pray for our St Luke’s Mission link Ben & Katy Ray 
 and their work in Tanzania and Anne Plested supporting Bethlehem Bible Col
 lege\n•	Current affairs\n\nAll are welcome.
LOCATION:St Margaret's Church\, Topsham
URL:https://www.achurchnearyou.com/church/8688/service-and-events/events/1
 087594/
END:VEVENT
BEGIN:VEVENT
SUMMARY:Prayer Breakfast
DTSTART;TZID=Europe/London:20250802T080000
DTEND;TZID=Europe/London:20250802T090000
DTSTAMP:20260424T151920Z
UID:10875942025-08-02 08:00:00+01:00achurchnearyou
CATEGORIES:
DESCRIPTION:Prayer Breakfast\n\nA simple breakfast\, a hymn\, Bible readin
 g and prayer.\n\nThe themes for May will be:-\n\nOur focus for prayer this
  month are:\n•	On the 80th Anniversary of VE Day\, we remember those who
  fought and lost their lives.\n•	We pray for all those struggling with t
 heir mental health.\n•	We thank God for the work of Christian Aid and th
 e Big Brekkie being held today at St Luke’s Church for this charity.\n
 •	For our Devon County Show\, the show chaplains and Churches Together s
 tand at the show.\n•	 For all those suffering with MS and those living w
 ith Dementia\n•	We pray for our St Luke’s Mission link Ben & Katy Ray 
 and their work in Tanzania and Anne Plested supporting Bethlehem Bible Col
 lege\n•	Current affairs\n\nAll are welcome.
LOCATION:St Margaret's Church\, Topsham
URL:https://www.achurchnearyou.com/church/8688/service-and-events/events/1
 087594/
END:VEVENT
END:VCALENDAR
