BEGIN:VCALENDAR
VERSION:2.0
PRODID:-//achurchnearyou.com//eventfeed//EN
CALSCALE:GREGORIAN
METHOD:PUBLISH
X-WR-TIMEZONE:UTC
BEGIN:VEVENT
SUMMARY:The Spirit of Christmas
DTSTART:20251209T193000Z
DTEND:20251209T203000Z
DTSTAMP:20260424T073418Z
UID:12610842025-12-09 19:30:00+00:00achurchnearyou
CATEGORIES:
DESCRIPTION:A Christmas Concert by the St David's Singers
GEO:-3.501731;50.702873
LOCATION:St Luke's\, Countess Wear
URL:https://www.achurchnearyou.com/church/8688/service-and-events/events/1
 261084/
END:VEVENT
END:VCALENDAR
