BEGIN:VCALENDAR
VERSION:2.0
PRODID:-//achurchnearyou.com//eventfeed//EN
CALSCALE:GREGORIAN
METHOD:PUBLISH
X-WR-TIMEZONE:UTC
BEGIN:VEVENT
SUMMARY:Bereavement Group
DTSTART;TZID=Europe/London:20260514T110000
DTEND;TZID=Europe/London:20260514T120000
DTSTAMP:20260423T021125Z
UID:11204232026-05-14 11:00:00+01:00achurchnearyou
CATEGORIES:
DESCRIPTION:Come and spend time with others who have been bereaved. Time t
 o chat and have coffee.
GEO:-0.031802;51.323261
LOCATION:Farleigh\, St Mary
URL:https://www.achurchnearyou.com/church/870/service-and-events/events/11
 20423/
END:VEVENT
BEGIN:VEVENT
SUMMARY:Bereavement Group
DTSTART;TZID=Europe/London:20260611T110000
DTEND;TZID=Europe/London:20260611T120000
DTSTAMP:20260423T021125Z
UID:11204232026-06-11 11:00:00+01:00achurchnearyou
CATEGORIES:
DESCRIPTION:Come and spend time with others who have been bereaved. Time t
 o chat and have coffee.
GEO:-0.031802;51.323261
LOCATION:Farleigh\, St Mary
URL:https://www.achurchnearyou.com/church/870/service-and-events/events/11
 20423/
END:VEVENT
BEGIN:VEVENT
SUMMARY:Bereavement Group
DTSTART;TZID=Europe/London:20260709T110000
DTEND;TZID=Europe/London:20260709T120000
DTSTAMP:20260423T021125Z
UID:11204232026-07-09 11:00:00+01:00achurchnearyou
CATEGORIES:
DESCRIPTION:Come and spend time with others who have been bereaved. Time t
 o chat and have coffee.
GEO:-0.031802;51.323261
LOCATION:Farleigh\, St Mary
URL:https://www.achurchnearyou.com/church/870/service-and-events/events/11
 20423/
END:VEVENT
BEGIN:VEVENT
SUMMARY:Bereavement Group
DTSTART;TZID=Europe/London:20260813T110000
DTEND;TZID=Europe/London:20260813T120000
DTSTAMP:20260423T021125Z
UID:11204232026-08-13 11:00:00+01:00achurchnearyou
CATEGORIES:
DESCRIPTION:Come and spend time with others who have been bereaved. Time t
 o chat and have coffee.
GEO:-0.031802;51.323261
LOCATION:Farleigh\, St Mary
URL:https://www.achurchnearyou.com/church/870/service-and-events/events/11
 20423/
END:VEVENT
BEGIN:VEVENT
SUMMARY:Bereavement Group
DTSTART;TZID=Europe/London:20260910T110000
DTEND;TZID=Europe/London:20260910T120000
DTSTAMP:20260423T021125Z
UID:11204232026-09-10 11:00:00+01:00achurchnearyou
CATEGORIES:
DESCRIPTION:Come and spend time with others who have been bereaved. Time t
 o chat and have coffee.
GEO:-0.031802;51.323261
LOCATION:Farleigh\, St Mary
URL:https://www.achurchnearyou.com/church/870/service-and-events/events/11
 20423/
END:VEVENT
BEGIN:VEVENT
SUMMARY:Bereavement Group
DTSTART;TZID=Europe/London:20261008T110000
DTEND;TZID=Europe/London:20261008T120000
DTSTAMP:20260423T021125Z
UID:11204232026-10-08 11:00:00+01:00achurchnearyou
CATEGORIES:
DESCRIPTION:Come and spend time with others who have been bereaved. Time t
 o chat and have coffee.
GEO:-0.031802;51.323261
LOCATION:Farleigh\, St Mary
URL:https://www.achurchnearyou.com/church/870/service-and-events/events/11
 20423/
END:VEVENT
BEGIN:VEVENT
SUMMARY:Bereavement Group
DTSTART;TZID=Europe/London:20261112T110000
DTEND;TZID=Europe/London:20261112T120000
DTSTAMP:20260423T021125Z
UID:11204232026-11-12 11:00:00+00:00achurchnearyou
CATEGORIES:
DESCRIPTION:Come and spend time with others who have been bereaved. Time t
 o chat and have coffee.
GEO:-0.031802;51.323261
LOCATION:Farleigh\, St Mary
URL:https://www.achurchnearyou.com/church/870/service-and-events/events/11
 20423/
END:VEVENT
BEGIN:VEVENT
SUMMARY:Bereavement Group
DTSTART;TZID=Europe/London:20261210T110000
DTEND;TZID=Europe/London:20261210T120000
DTSTAMP:20260423T021125Z
UID:11204232026-12-10 11:00:00+00:00achurchnearyou
CATEGORIES:
DESCRIPTION:Come and spend time with others who have been bereaved. Time t
 o chat and have coffee.
GEO:-0.031802;51.323261
LOCATION:Farleigh\, St Mary
URL:https://www.achurchnearyou.com/church/870/service-and-events/events/11
 20423/
END:VEVENT
BEGIN:VEVENT
SUMMARY:Bereavement Group
DTSTART;TZID=Europe/London:20270114T110000
DTEND;TZID=Europe/London:20270114T120000
DTSTAMP:20260423T021125Z
UID:11204232027-01-14 11:00:00+00:00achurchnearyou
CATEGORIES:
DESCRIPTION:Come and spend time with others who have been bereaved. Time t
 o chat and have coffee.
GEO:-0.031802;51.323261
LOCATION:Farleigh\, St Mary
URL:https://www.achurchnearyou.com/church/870/service-and-events/events/11
 20423/
END:VEVENT
BEGIN:VEVENT
SUMMARY:Bereavement Group
DTSTART;TZID=Europe/London:20270211T110000
DTEND;TZID=Europe/London:20270211T120000
DTSTAMP:20260423T021125Z
UID:11204232027-02-11 11:00:00+00:00achurchnearyou
CATEGORIES:
DESCRIPTION:Come and spend time with others who have been bereaved. Time t
 o chat and have coffee.
GEO:-0.031802;51.323261
LOCATION:Farleigh\, St Mary
URL:https://www.achurchnearyou.com/church/870/service-and-events/events/11
 20423/
END:VEVENT
BEGIN:VEVENT
SUMMARY:Bereavement Group
DTSTART;TZID=Europe/London:20270311T110000
DTEND;TZID=Europe/London:20270311T120000
DTSTAMP:20260423T021125Z
UID:11204232027-03-11 11:00:00+00:00achurchnearyou
CATEGORIES:
DESCRIPTION:Come and spend time with others who have been bereaved. Time t
 o chat and have coffee.
GEO:-0.031802;51.323261
LOCATION:Farleigh\, St Mary
URL:https://www.achurchnearyou.com/church/870/service-and-events/events/11
 20423/
END:VEVENT
BEGIN:VEVENT
SUMMARY:Bereavement Group
DTSTART;TZID=Europe/London:20270408T110000
DTEND;TZID=Europe/London:20270408T120000
DTSTAMP:20260423T021125Z
UID:11204232027-04-08 11:00:00+01:00achurchnearyou
CATEGORIES:
DESCRIPTION:Come and spend time with others who have been bereaved. Time t
 o chat and have coffee.
GEO:-0.031802;51.323261
LOCATION:Farleigh\, St Mary
URL:https://www.achurchnearyou.com/church/870/service-and-events/events/11
 20423/
END:VEVENT
END:VCALENDAR
