BEGIN:VCALENDAR
VERSION:2.0
PRODID:-//achurchnearyou.com//eventfeed//EN
CALSCALE:GREGORIAN
METHOD:PUBLISH
X-WR-TIMEZONE:UTC
BEGIN:VEVENT
SUMMARY:Lent Lunch
DTSTART:20260325T120000Z
DTEND:20260325T133000Z
DTSTAMP:20260423T143056Z
UID:13110812026-03-25 12:00:00+00:00achurchnearyou
CATEGORIES:
DESCRIPTION:The last of our Lent Lunches will take place on Wednesday 25 M
 arch. Come and join us for home-made soup and a roll.
LOCATION:Square Corner
URL:https://www.achurchnearyou.com/church/8712/service-and-events/events/1
 311081/
END:VEVENT
END:VCALENDAR
