BEGIN:VCALENDAR
VERSION:2.0
PRODID:-//achurchnearyou.com//eventfeed//EN
CALSCALE:GREGORIAN
METHOD:PUBLISH
X-WR-TIMEZONE:UTC
BEGIN:VEVENT
SUMMARY:Midnight Communion with Carols
DTSTART:20251224T230000Z
DTEND:20251225T003000Z
DTSTAMP:20260423T223721Z
UID:2298142025-12-24 23:00:00+00:00achurchnearyou
CATEGORIES:
DESCRIPTION:See in Christmas Day with a lovely service of carols with Holy
  Communion.
GEO:-3.325998;50.90636
LOCATION:St Mary the Virgin
URL:https://www.achurchnearyou.com/church/8712/service-and-events/events/2
 29814/
END:VEVENT
END:VCALENDAR
