BEGIN:VCALENDAR
VERSION:2.0
PRODID:-//achurchnearyou.com//eventfeed//EN
CALSCALE:GREGORIAN
METHOD:PUBLISH
X-WR-TIMEZONE:UTC
BEGIN:VEVENT
SUMMARY:Festival of Light Christmas trees in church through December
DTSTART;TZID=Europe/London:20251128T153000
DTEND;TZID=Europe/London:20251128T190000
DTSTAMP:20260423T223622Z
UID:7052442025-11-28 15:30:00+00:00achurchnearyou
CATEGORIES:
DESCRIPTION:Following our very popular Christmas Trees Festival launch on 
 22 November\, in line with Uffculme Lights Switch-On\, the tree lights wil
 l be on during services and from 3.30pm most days. The church normally clo
 ses at around 4pm\, but on Friday evenings until Christmas Day it will be 
 open until 7pm. There is also a chance for you to write a prayer\, or in m
 emory of someone\, or with a message\, on a star on the Tree of Light by t
 he entrance door\; and an opportunity to contribute to the work of CHAT (C
 hurches Housing Action Team) based in Tiverton\, helping those facing hous
 ing or debt problems\, or facing food shortages.
GEO:-3.325998;50.90636
LOCATION:St Mary the Virgin
URL:https://www.achurchnearyou.com/church/8712/service-and-events/events/7
 05244/
END:VEVENT
BEGIN:VEVENT
SUMMARY:Festival of Light Christmas trees in church through December
DTSTART;TZID=Europe/London:20251205T153000
DTEND;TZID=Europe/London:20251205T190000
DTSTAMP:20260423T223622Z
UID:7052442025-12-05 15:30:00+00:00achurchnearyou
CATEGORIES:
DESCRIPTION:Following our very popular Christmas Trees Festival launch on 
 22 November\, in line with Uffculme Lights Switch-On\, the tree lights wil
 l be on during services and from 3.30pm most days. The church normally clo
 ses at around 4pm\, but on Friday evenings until Christmas Day it will be 
 open until 7pm. There is also a chance for you to write a prayer\, or in m
 emory of someone\, or with a message\, on a star on the Tree of Light by t
 he entrance door\; and an opportunity to contribute to the work of CHAT (C
 hurches Housing Action Team) based in Tiverton\, helping those facing hous
 ing or debt problems\, or facing food shortages.
GEO:-3.325998;50.90636
LOCATION:St Mary the Virgin
URL:https://www.achurchnearyou.com/church/8712/service-and-events/events/7
 05244/
END:VEVENT
BEGIN:VEVENT
SUMMARY:Festival of Light Christmas trees in church through December
DTSTART;TZID=Europe/London:20251212T153000
DTEND;TZID=Europe/London:20251212T190000
DTSTAMP:20260423T223622Z
UID:7052442025-12-12 15:30:00+00:00achurchnearyou
CATEGORIES:
DESCRIPTION:Following our very popular Christmas Trees Festival launch on 
 22 November\, in line with Uffculme Lights Switch-On\, the tree lights wil
 l be on during services and from 3.30pm most days. The church normally clo
 ses at around 4pm\, but on Friday evenings until Christmas Day it will be 
 open until 7pm. There is also a chance for you to write a prayer\, or in m
 emory of someone\, or with a message\, on a star on the Tree of Light by t
 he entrance door\; and an opportunity to contribute to the work of CHAT (C
 hurches Housing Action Team) based in Tiverton\, helping those facing hous
 ing or debt problems\, or facing food shortages.
GEO:-3.325998;50.90636
LOCATION:St Mary the Virgin
URL:https://www.achurchnearyou.com/church/8712/service-and-events/events/7
 05244/
END:VEVENT
BEGIN:VEVENT
SUMMARY:Festival of Light Christmas trees in church through December
DTSTART;TZID=Europe/London:20251219T153000
DTEND;TZID=Europe/London:20251219T190000
DTSTAMP:20260423T223622Z
UID:7052442025-12-19 15:30:00+00:00achurchnearyou
CATEGORIES:
DESCRIPTION:Following our very popular Christmas Trees Festival launch on 
 22 November\, in line with Uffculme Lights Switch-On\, the tree lights wil
 l be on during services and from 3.30pm most days. The church normally clo
 ses at around 4pm\, but on Friday evenings until Christmas Day it will be 
 open until 7pm. There is also a chance for you to write a prayer\, or in m
 emory of someone\, or with a message\, on a star on the Tree of Light by t
 he entrance door\; and an opportunity to contribute to the work of CHAT (C
 hurches Housing Action Team) based in Tiverton\, helping those facing hous
 ing or debt problems\, or facing food shortages.
GEO:-3.325998;50.90636
LOCATION:St Mary the Virgin
URL:https://www.achurchnearyou.com/church/8712/service-and-events/events/7
 05244/
END:VEVENT
END:VCALENDAR
