BEGIN:VCALENDAR
VERSION:2.0
PRODID:-//achurchnearyou.com//eventfeed//EN
CALSCALE:GREGORIAN
METHOD:PUBLISH
X-WR-TIMEZONE:UTC
BEGIN:VEVENT
SUMMARY:Communion Service
DTSTART;TZID=Europe/London:20250518T100000
DTEND;TZID=Europe/London:20250518T110000
DTSTAMP:20260425T172104Z
UID:10211512025-05-18 10:00:00+01:00achurchnearyou
CATEGORIES:
DESCRIPTION:A Communion Service using contemporary language with hymns and
  a sermon
LOCATION:St Andrew
URL:https://www.achurchnearyou.com/church/8717/service-and-events/events/1
 021151/
END:VEVENT
BEGIN:VEVENT
SUMMARY:Communion Service
DTSTART;TZID=Europe/London:20250525T100000
DTEND;TZID=Europe/London:20250525T110000
DTSTAMP:20260425T172104Z
UID:10211512025-05-25 10:00:00+01:00achurchnearyou
CATEGORIES:
DESCRIPTION:A Communion Service using contemporary language with hymns and
  a sermon
LOCATION:St Andrew
URL:https://www.achurchnearyou.com/church/8717/service-and-events/events/1
 021151/
END:VEVENT
END:VCALENDAR
