BEGIN:VCALENDAR
VERSION:2.0
PRODID:-//achurchnearyou.com//eventfeed//EN
CALSCALE:GREGORIAN
METHOD:PUBLISH
X-WR-TIMEZONE:UTC
BEGIN:VEVENT
SUMMARY:Good Friday Devotional Service
DTSTART:20250418T130000Z
DTEND:20250418T140000Z
DTSTAMP:20260425T171608Z
UID:11908492025-04-18 13:00:00+00:00achurchnearyou
CATEGORIES:
DESCRIPTION:Good Friday Devotional Service - The Service will be entitled 
 "Images of the Cross"\, and will build upon the Lent Course theme\, which 
 was "Images of Grace". We will explore the ways in which the cross can be 
 seen as a burden\, an instrument of torture\, a source of consolation\, a 
 means of redemption\, a bridge and a throne. It should finish soon after 3
  o'clock.
LOCATION:All Saints
URL:https://www.achurchnearyou.com/church/8717/service-and-events/events/1
 190849/
END:VEVENT
END:VCALENDAR
