BEGIN:VCALENDAR
VERSION:2.0
PRODID:-//achurchnearyou.com//eventfeed//EN
CALSCALE:GREGORIAN
METHOD:PUBLISH
X-WR-TIMEZONE:UTC
BEGIN:VEVENT
SUMMARY:Passover Supper for Maundy Thursday
DTSTART:20250417T173000Z
DTEND:20250417T193000Z
DTSTAMP:20260425T173634Z
UID:11907842025-04-17 17:30:00+00:00achurchnearyou
CATEGORIES:
DESCRIPTION:Passover Supper for Maundy Thursday followed by stripping of t
 he alter.  Held in Hemyock church rooms\, Castle Hill and then in St Mary'
 s church
LOCATION:St Mary's
URL:https://www.achurchnearyou.com/church/8719/service-and-events/events/1
 190784/
END:VEVENT
END:VCALENDAR
