BEGIN:VCALENDAR
VERSION:2.0
PRODID:-//achurchnearyou.com//eventfeed//EN
CALSCALE:GREGORIAN
METHOD:PUBLISH
X-WR-TIMEZONE:UTC
BEGIN:VEVENT
SUMMARY:Special Service to commemorate VE Day\, 80 years
DTSTART:20250504T100000Z
DTEND:20250504T110000Z
DTSTAMP:20260425T160538Z
UID:11957942025-05-04 10:00:00+00:00achurchnearyou
CATEGORIES:
DESCRIPTION:Special Service to commemorate VE Day\, 80 years
LOCATION:St Mary's
URL:https://www.achurchnearyou.com/church/8720/service-and-events/events/1
 195794/
END:VEVENT
END:VCALENDAR
