BEGIN:VCALENDAR
VERSION:2.0
PRODID:-//achurchnearyou.com//eventfeed//EN
CALSCALE:GREGORIAN
METHOD:PUBLISH
X-WR-TIMEZONE:UTC
BEGIN:VEVENT
SUMMARY:Carol service
DTSTART:20251221T183000Z
DTEND:20251221T193000Z
DTSTAMP:20260424T090509Z
UID:12692102025-12-21 18:30:00+00:00achurchnearyou
CATEGORIES:
DESCRIPTION:Carol service followed by refreshments
GEO:-3.278091;50.914265
LOCATION:All Saints
URL:https://www.achurchnearyou.com/church/8720/service-and-events/events/1
 269210/
END:VEVENT
END:VCALENDAR
