BEGIN:VCALENDAR
VERSION:2.0
PRODID:-//achurchnearyou.com//eventfeed//EN
CALSCALE:GREGORIAN
METHOD:PUBLISH
X-WR-TIMEZONE:UTC
BEGIN:VEVENT
SUMMARY:Night Prayer
DTSTART:20260330T190000Z
DTEND:20260330T200000Z
DTSTAMP:20260423T145903Z
UID:12927082026-03-30 19:00:00+00:00achurchnearyou
CATEGORIES:
DESCRIPTION:Night Prayer
GEO:-3.278091;50.914265
LOCATION:All Saints
URL:https://www.achurchnearyou.com/church/8720/service-and-events/events/1
 292708/
END:VEVENT
END:VCALENDAR
