BEGIN:VCALENDAR
VERSION:2.0
PRODID:-//achurchnearyou.com//eventfeed//EN
CALSCALE:GREGORIAN
METHOD:PUBLISH
X-WR-TIMEZONE:UTC
BEGIN:VEVENT
SUMMARY:Sunrise service
DTSTART:20260405T060000Z
DTEND:20260405T070000Z
DTSTAMP:20260423T143023Z
UID:13154102026-04-05 06:00:00+00:00achurchnearyou
CATEGORIES:
DESCRIPTION:An open air celebration of Easter round a bonfire in the beaut
 iful Upper Culm Valley followed by breakfast
LOCATION:Gray's Quarry Farm
URL:https://www.achurchnearyou.com/church/8720/service-and-events/events/1
 315410/
END:VEVENT
END:VCALENDAR
