BEGIN:VCALENDAR
VERSION:2.0
PRODID:-//achurchnearyou.com//eventfeed//EN
CALSCALE:GREGORIAN
METHOD:PUBLISH
X-WR-TIMEZONE:UTC
BEGIN:VEVENT
SUMMARY:Rogation Tea and Service
DTSTART:20250525T150000Z
DTEND:20250525T170000Z
DTSTAMP:20260424T163605Z
UID:11958932025-05-25 15:00:00+00:00achurchnearyou
CATEGORIES:
DESCRIPTION:A special event to mark Rogation Sunday when it is traditional
  to ask for God's blessing on the crops (the name coming from the Latin 'R
 ogare' - to ask). The event will be held at Burridge Farm\, Burridge\, nea
 r Chardstock. Beginning at 4pm with a bring and share tea we then have an 
 informal service. As with all our services\, Everyone is more than welcome
 .
LOCATION:Burridge Farm\,
URL:https://www.achurchnearyou.com/church/8730/service-and-events/events/1
 195893/
END:VEVENT
END:VCALENDAR
