BEGIN:VCALENDAR
VERSION:2.0
PRODID:-//achurchnearyou.com//eventfeed//EN
CALSCALE:GREGORIAN
METHOD:PUBLISH
X-WR-TIMEZONE:UTC
BEGIN:VEVENT
SUMMARY:Christmas Carols by Request
DTSTART;TZID=Europe/London:20251225T093000
DTEND;TZID=Europe/London:20251225T103000
DTSTAMP:20260424T014428Z
UID:11348642025-12-25 09:30:00+00:00achurchnearyou
CATEGORIES:
DESCRIPTION:We warmly invite you to come along to our special Christmas mo
 rning celebration
GEO:-3.251529;50.870359
LOCATION:St James the Greater
URL:https://www.achurchnearyou.com/church/8762/service-and-events/events/1
 134864/
END:VEVENT
END:VCALENDAR
