BEGIN:VCALENDAR
VERSION:2.0
PRODID:-//achurchnearyou.com//eventfeed//EN
CALSCALE:GREGORIAN
METHOD:PUBLISH
X-WR-TIMEZONE:UTC
BEGIN:VEVENT
SUMMARY:Mission Community Holy Communion - 4 Before Lent
DTSTART:20250209T103000Z
DTEND:20250209T113000Z
DTSTAMP:20260419T194459Z
UID:11150072025-02-09 10:30:00+00:00achurchnearyou
CATEGORIES:
DESCRIPTION:A service of Holy Communion for the whole Mission Community
GEO:-3.6766;50.665016
LOCATION:St Thomas Becket\, Bridford
URL:https://www.achurchnearyou.com/church/8767/service-and-events/events/1
 115007/
END:VEVENT
END:VCALENDAR
