BEGIN:VCALENDAR
VERSION:2.0
PRODID:-//achurchnearyou.com//eventfeed//EN
CALSCALE:GREGORIAN
METHOD:PUBLISH
X-WR-TIMEZONE:UTC
BEGIN:VEVENT
SUMMARY:Holy Communion - Pentecost
DTSTART:20250608T093000Z
DTEND:20250608T103000Z
DTSTAMP:20260421T143117Z
UID:11520502025-06-08 09:30:00+00:00achurchnearyou
CATEGORIES:
DESCRIPTION:Holy Communion Services
GEO:-3.592009;50.677819
LOCATION:St Thomas Becket\, Bridford\nSt Michael & All Angels Dunchideock
URL:https://www.achurchnearyou.com/church/8770/service-and-events/events/1
 152050/
END:VEVENT
END:VCALENDAR
