BEGIN:VCALENDAR
VERSION:2.0
PRODID:-//achurchnearyou.com//eventfeed//EN
CALSCALE:GREGORIAN
METHOD:PUBLISH
X-WR-TIMEZONE:UTC
BEGIN:VEVENT
SUMMARY:Family Service for Harvest
DTSTART:20251005T100000Z
DTEND:20251005T110000Z
DTSTAMP:20260422T163648Z
UID:2776002025-10-05 10:00:00+00:00achurchnearyou
CATEGORIES:
DESCRIPTION:Family Harvest Service for all ages
GEO:-3.347418;50.8179
LOCATION:St John the Baptist
URL:https://www.achurchnearyou.com/church/8797/service-and-events/events/2
 77600/
END:VEVENT
END:VCALENDAR
