BEGIN:VCALENDAR
VERSION:2.0
PRODID:-//achurchnearyou.com//eventfeed//EN
CALSCALE:GREGORIAN
METHOD:PUBLISH
X-WR-TIMEZONE:UTC
BEGIN:VEVENT
SUMMARY:Escot Soup Lunch
DTSTART;TZID=Europe/London:20260202T120000
DTEND;TZID=Europe/London:20260202T140000
DTSTAMP:20260419T234459Z
UID:12858422026-02-02 12:00:00+00:00achurchnearyou
CATEGORIES:
DESCRIPTION:A simple lunch of soup and a roll. Raising fund for local\, na
 tional and international charities. Food and chat in a welcoming environme
 nt.
LOCATION:Escot Village Hall
URL:https://www.achurchnearyou.com/church/8798/service-and-events/events/1
 285842/
END:VEVENT
BEGIN:VEVENT
SUMMARY:Escot Soup Lunch
DTSTART;TZID=Europe/London:20260302T120000
DTEND;TZID=Europe/London:20260302T140000
DTSTAMP:20260419T234459Z
UID:12858422026-03-02 12:00:00+00:00achurchnearyou
CATEGORIES:
DESCRIPTION:A simple lunch of soup and a roll. Raising fund for local\, na
 tional and international charities. Food and chat in a welcoming environme
 nt.
LOCATION:Escot Village Hall
URL:https://www.achurchnearyou.com/church/8798/service-and-events/events/1
 285842/
END:VEVENT
BEGIN:VEVENT
SUMMARY:Escot Soup Lunch
DTSTART;TZID=Europe/London:20260406T120000
DTEND;TZID=Europe/London:20260406T140000
DTSTAMP:20260419T234459Z
UID:12858422026-04-06 12:00:00+01:00achurchnearyou
CATEGORIES:
DESCRIPTION:A simple lunch of soup and a roll. Raising fund for local\, na
 tional and international charities. Food and chat in a welcoming environme
 nt.
LOCATION:Escot Village Hall
URL:https://www.achurchnearyou.com/church/8798/service-and-events/events/1
 285842/
END:VEVENT
BEGIN:VEVENT
SUMMARY:Escot Soup Lunch
DTSTART;TZID=Europe/London:20261102T120000
DTEND;TZID=Europe/London:20261102T140000
DTSTAMP:20260419T234459Z
UID:12858422026-11-02 12:00:00+00:00achurchnearyou
CATEGORIES:
DESCRIPTION:A simple lunch of soup and a roll. Raising fund for local\, na
 tional and international charities. Food and chat in a welcoming environme
 nt.
LOCATION:Escot Village Hall
URL:https://www.achurchnearyou.com/church/8798/service-and-events/events/1
 285842/
END:VEVENT
BEGIN:VEVENT
SUMMARY:Escot Soup Lunch
DTSTART;TZID=Europe/London:20261207T120000
DTEND;TZID=Europe/London:20261207T140000
DTSTAMP:20260419T234459Z
UID:12858422026-12-07 12:00:00+00:00achurchnearyou
CATEGORIES:
DESCRIPTION:A simple lunch of soup and a roll. Raising fund for local\, na
 tional and international charities. Food and chat in a welcoming environme
 nt.
LOCATION:Escot Village Hall
URL:https://www.achurchnearyou.com/church/8798/service-and-events/events/1
 285842/
END:VEVENT
END:VCALENDAR
