BEGIN:VCALENDAR
VERSION:2.0
PRODID:-//achurchnearyou.com//eventfeed//EN
CALSCALE:GREGORIAN
METHOD:PUBLISH
X-WR-TIMEZONE:UTC
BEGIN:VEVENT
SUMMARY:Escot - Good Friday Reflection
DTSTART:20260403T110000Z
DTEND:20260403T113000Z
DTSTAMP:20260420T012726Z
UID:13064462026-04-03 11:00:00+00:00achurchnearyou
CATEGORIES:
DESCRIPTION:All welcome to our short Good Friday Reflection
LOCATION:Escot Church
URL:https://www.achurchnearyou.com/church/8798/service-and-events/events/1
 306446/
END:VEVENT
END:VCALENDAR
