BEGIN:VCALENDAR
VERSION:2.0
PRODID:-//achurchnearyou.com//eventfeed//EN
CALSCALE:GREGORIAN
METHOD:PUBLISH
X-WR-TIMEZONE:UTC
BEGIN:VEVENT
SUMMARY:Feniton - Sunrise Service
DTSTART:20260405T053000Z
DTEND:20260405T063000Z
DTSTAMP:20260420T012731Z
UID:13064482026-04-05 05:30:00+00:00achurchnearyou
CATEGORIES:
DESCRIPTION:Please join us for our Sunrise Service for Easter Day. This is
  especially moving if we actually see the sun rise. Meet in the village ha
 ll car park from 6.15am before climbing the hill (not suitable for those o
 f limited mobility\, unfortunately).
LOCATION:Field above Feniton Village Hall Car Park
URL:https://www.achurchnearyou.com/church/8798/service-and-events/events/1
 306448/
END:VEVENT
END:VCALENDAR
