BEGIN:VCALENDAR
VERSION:2.0
PRODID:-//achurchnearyou.com//eventfeed//EN
CALSCALE:GREGORIAN
METHOD:PUBLISH
X-WR-TIMEZONE:UTC
BEGIN:VEVENT
SUMMARY:Stations of the Cross
DTSTART:20250414T100000Z
DTEND:20250414T104500Z
DTSTAMP:20260424T132659Z
UID:4296602025-04-14 10:00:00+00:00achurchnearyou
CATEGORIES:
DESCRIPTION:Readings\, Prayers and Passiontide hymns as we follow the Way 
 of the Cross
GEO:-3.471759;50.90509
LOCATION:St Andrew's
URL:https://www.achurchnearyou.com/church/8836/service-and-events/events/4
 29660/
END:VEVENT
END:VCALENDAR
