BEGIN:VCALENDAR
VERSION:2.0
PRODID:-//achurchnearyou.com//eventfeed//EN
CALSCALE:GREGORIAN
METHOD:PUBLISH
X-WR-TIMEZONE:UTC
BEGIN:VEVENT
SUMMARY:Sunday Sung Eucharist
DTSTART;TZID=Europe/London:20260405T093000
DTEND;TZID=Europe/London:20260405T103000
DTSTAMP:20260422T160936Z
UID:6979931775377800.0achurchnearyou
CATEGORIES:
DESCRIPTION:A warm welcome awaits all who join us for our main service of 
 the week.
GEO:-3.471759;50.90509
LOCATION:St Andrew's
URL:https://www.achurchnearyou.com/church/8836/service-and-events/events/6
 97993/
END:VEVENT
BEGIN:VEVENT
SUMMARY:Said Eucharist
DTSTART;TZID=Europe/London:20260407T110000
DTEND;TZID=Europe/London:20260407T113000
DTSTAMP:20260422T160936Z
UID:4888481775556000.0achurchnearyou
CATEGORIES:
DESCRIPTION:Our Said Eucharist is followed by refreshments served in Churc
 h.
GEO:-3.471759;50.90509
LOCATION:St Andrew's
URL:https://www.achurchnearyou.com/church/8836/service-and-events/events/4
 88848/
END:VEVENT
BEGIN:VEVENT
SUMMARY:Sunday Sung Eucharist
DTSTART;TZID=Europe/London:20260412T093000
DTEND;TZID=Europe/London:20260412T103000
DTSTAMP:20260422T160936Z
UID:6979931775982600.0achurchnearyou
CATEGORIES:
DESCRIPTION:A warm welcome awaits all who join us for our main service of 
 the week.
GEO:-3.471759;50.90509
LOCATION:St Andrew's
URL:https://www.achurchnearyou.com/church/8836/service-and-events/events/6
 97993/
END:VEVENT
BEGIN:VEVENT
SUMMARY:Said Eucharist
DTSTART;TZID=Europe/London:20260414T110000
DTEND;TZID=Europe/London:20260414T113000
DTSTAMP:20260422T160936Z
UID:4888481776160800.0achurchnearyou
CATEGORIES:
DESCRIPTION:Our Said Eucharist is followed by refreshments served in Churc
 h.
GEO:-3.471759;50.90509
LOCATION:St Andrew's
URL:https://www.achurchnearyou.com/church/8836/service-and-events/events/4
 88848/
END:VEVENT
BEGIN:VEVENT
SUMMARY:Sunday Sung Eucharist
DTSTART;TZID=Europe/London:20260419T093000
DTEND;TZID=Europe/London:20260419T103000
DTSTAMP:20260422T160936Z
UID:6979931776587400.0achurchnearyou
CATEGORIES:
DESCRIPTION:A warm welcome awaits all who join us for our main service of 
 the week.
GEO:-3.471759;50.90509
LOCATION:St Andrew's
URL:https://www.achurchnearyou.com/church/8836/service-and-events/events/6
 97993/
END:VEVENT
BEGIN:VEVENT
SUMMARY:Said Eucharist
DTSTART;TZID=Europe/London:20260421T110000
DTEND;TZID=Europe/London:20260421T113000
DTSTAMP:20260422T160936Z
UID:4888481776765600.0achurchnearyou
CATEGORIES:
DESCRIPTION:Our Said Eucharist is followed by refreshments served in Churc
 h.
GEO:-3.471759;50.90509
LOCATION:St Andrew's
URL:https://www.achurchnearyou.com/church/8836/service-and-events/events/4
 88848/
END:VEVENT
BEGIN:VEVENT
SUMMARY:Sunday Sung Eucharist
DTSTART;TZID=Europe/London:20260426T093000
DTEND;TZID=Europe/London:20260426T103000
DTSTAMP:20260422T160936Z
UID:6979931777192200.0achurchnearyou
CATEGORIES:
DESCRIPTION:A warm welcome awaits all who join us for our main service of 
 the week.
GEO:-3.471759;50.90509
LOCATION:St Andrew's
URL:https://www.achurchnearyou.com/church/8836/service-and-events/events/6
 97993/
END:VEVENT
BEGIN:VEVENT
SUMMARY:Said Eucharist
DTSTART;TZID=Europe/London:20260428T110000
DTEND;TZID=Europe/London:20260428T113000
DTSTAMP:20260422T160936Z
UID:4888481777370400.0achurchnearyou
CATEGORIES:
DESCRIPTION:Our Said Eucharist is followed by refreshments served in Churc
 h.
GEO:-3.471759;50.90509
LOCATION:St Andrew's
URL:https://www.achurchnearyou.com/church/8836/service-and-events/events/4
 88848/
END:VEVENT
BEGIN:VEVENT
SUMMARY:Sunday Sung Eucharist
DTSTART;TZID=Europe/London:20260503T093000
DTEND;TZID=Europe/London:20260503T103000
DTSTAMP:20260422T160936Z
UID:6979931777797000.0achurchnearyou
CATEGORIES:
DESCRIPTION:A warm welcome awaits all who join us for our main service of 
 the week.
GEO:-3.471759;50.90509
LOCATION:St Andrew's
URL:https://www.achurchnearyou.com/church/8836/service-and-events/events/6
 97993/
END:VEVENT
BEGIN:VEVENT
SUMMARY:Said Eucharist
DTSTART;TZID=Europe/London:20260505T110000
DTEND;TZID=Europe/London:20260505T113000
DTSTAMP:20260422T160936Z
UID:4888481777975200.0achurchnearyou
CATEGORIES:
DESCRIPTION:Our Said Eucharist is followed by refreshments served in Churc
 h.
GEO:-3.471759;50.90509
LOCATION:St Andrew's
URL:https://www.achurchnearyou.com/church/8836/service-and-events/events/4
 88848/
END:VEVENT
BEGIN:VEVENT
SUMMARY:Sunday Sung Eucharist
DTSTART;TZID=Europe/London:20260510T093000
DTEND;TZID=Europe/London:20260510T103000
DTSTAMP:20260422T160936Z
UID:6979931778401800.0achurchnearyou
CATEGORIES:
DESCRIPTION:A warm welcome awaits all who join us for our main service of 
 the week.
GEO:-3.471759;50.90509
LOCATION:St Andrew's
URL:https://www.achurchnearyou.com/church/8836/service-and-events/events/6
 97993/
END:VEVENT
BEGIN:VEVENT
SUMMARY:Said Eucharist
DTSTART;TZID=Europe/London:20260512T110000
DTEND;TZID=Europe/London:20260512T113000
DTSTAMP:20260422T160936Z
UID:4888481778580000.0achurchnearyou
CATEGORIES:
DESCRIPTION:Our Said Eucharist is followed by refreshments served in Churc
 h.
GEO:-3.471759;50.90509
LOCATION:St Andrew's
URL:https://www.achurchnearyou.com/church/8836/service-and-events/events/4
 88848/
END:VEVENT
BEGIN:VEVENT
SUMMARY:Sunday Sung Eucharist
DTSTART;TZID=Europe/London:20260517T093000
DTEND;TZID=Europe/London:20260517T103000
DTSTAMP:20260422T160936Z
UID:6979931779006600.0achurchnearyou
CATEGORIES:
DESCRIPTION:A warm welcome awaits all who join us for our main service of 
 the week.
GEO:-3.471759;50.90509
LOCATION:St Andrew's
URL:https://www.achurchnearyou.com/church/8836/service-and-events/events/6
 97993/
END:VEVENT
BEGIN:VEVENT
SUMMARY:Said Eucharist
DTSTART;TZID=Europe/London:20260519T110000
DTEND;TZID=Europe/London:20260519T113000
DTSTAMP:20260422T160936Z
UID:4888481779184800.0achurchnearyou
CATEGORIES:
DESCRIPTION:Our Said Eucharist is followed by refreshments served in Churc
 h.
GEO:-3.471759;50.90509
LOCATION:St Andrew's
URL:https://www.achurchnearyou.com/church/8836/service-and-events/events/4
 88848/
END:VEVENT
BEGIN:VEVENT
SUMMARY:Sunday Sung Eucharist
DTSTART;TZID=Europe/London:20260524T093000
DTEND;TZID=Europe/London:20260524T103000
DTSTAMP:20260422T160936Z
UID:6979931779611400.0achurchnearyou
CATEGORIES:
DESCRIPTION:A warm welcome awaits all who join us for our main service of 
 the week.
GEO:-3.471759;50.90509
LOCATION:St Andrew's
URL:https://www.achurchnearyou.com/church/8836/service-and-events/events/6
 97993/
END:VEVENT
BEGIN:VEVENT
SUMMARY:Said Eucharist
DTSTART;TZID=Europe/London:20260526T110000
DTEND;TZID=Europe/London:20260526T113000
DTSTAMP:20260422T160936Z
UID:4888481779789600.0achurchnearyou
CATEGORIES:
DESCRIPTION:Our Said Eucharist is followed by refreshments served in Churc
 h.
GEO:-3.471759;50.90509
LOCATION:St Andrew's
URL:https://www.achurchnearyou.com/church/8836/service-and-events/events/4
 88848/
END:VEVENT
BEGIN:VEVENT
SUMMARY:Sunday Sung Eucharist
DTSTART;TZID=Europe/London:20260531T093000
DTEND;TZID=Europe/London:20260531T103000
DTSTAMP:20260422T160936Z
UID:6979931780216200.0achurchnearyou
CATEGORIES:
DESCRIPTION:A warm welcome awaits all who join us for our main service of 
 the week.
GEO:-3.471759;50.90509
LOCATION:St Andrew's
URL:https://www.achurchnearyou.com/church/8836/service-and-events/events/6
 97993/
END:VEVENT
BEGIN:VEVENT
SUMMARY:Said Eucharist
DTSTART;TZID=Europe/London:20260602T110000
DTEND;TZID=Europe/London:20260602T113000
DTSTAMP:20260422T160936Z
UID:4888481780394400.0achurchnearyou
CATEGORIES:
DESCRIPTION:Our Said Eucharist is followed by refreshments served in Churc
 h.
GEO:-3.471759;50.90509
LOCATION:St Andrew's
URL:https://www.achurchnearyou.com/church/8836/service-and-events/events/4
 88848/
END:VEVENT
BEGIN:VEVENT
SUMMARY:Sunday Sung Eucharist
DTSTART;TZID=Europe/London:20260607T093000
DTEND;TZID=Europe/London:20260607T103000
DTSTAMP:20260422T160936Z
UID:6979931780821000.0achurchnearyou
CATEGORIES:
DESCRIPTION:A warm welcome awaits all who join us for our main service of 
 the week.
GEO:-3.471759;50.90509
LOCATION:St Andrew's
URL:https://www.achurchnearyou.com/church/8836/service-and-events/events/6
 97993/
END:VEVENT
BEGIN:VEVENT
SUMMARY:Said Eucharist
DTSTART;TZID=Europe/London:20260609T110000
DTEND;TZID=Europe/London:20260609T113000
DTSTAMP:20260422T160936Z
UID:4888481780999200.0achurchnearyou
CATEGORIES:
DESCRIPTION:Our Said Eucharist is followed by refreshments served in Churc
 h.
GEO:-3.471759;50.90509
LOCATION:St Andrew's
URL:https://www.achurchnearyou.com/church/8836/service-and-events/events/4
 88848/
END:VEVENT
BEGIN:VEVENT
SUMMARY:Sunday Sung Eucharist
DTSTART;TZID=Europe/London:20260614T093000
DTEND;TZID=Europe/London:20260614T103000
DTSTAMP:20260422T160936Z
UID:6979931781425800.0achurchnearyou
CATEGORIES:
DESCRIPTION:A warm welcome awaits all who join us for our main service of 
 the week.
GEO:-3.471759;50.90509
LOCATION:St Andrew's
URL:https://www.achurchnearyou.com/church/8836/service-and-events/events/6
 97993/
END:VEVENT
BEGIN:VEVENT
SUMMARY:Said Eucharist
DTSTART;TZID=Europe/London:20260616T110000
DTEND;TZID=Europe/London:20260616T113000
DTSTAMP:20260422T160936Z
UID:4888481781604000.0achurchnearyou
CATEGORIES:
DESCRIPTION:Our Said Eucharist is followed by refreshments served in Churc
 h.
GEO:-3.471759;50.90509
LOCATION:St Andrew's
URL:https://www.achurchnearyou.com/church/8836/service-and-events/events/4
 88848/
END:VEVENT
BEGIN:VEVENT
SUMMARY:Sunday Sung Eucharist
DTSTART;TZID=Europe/London:20260621T093000
DTEND;TZID=Europe/London:20260621T103000
DTSTAMP:20260422T160936Z
UID:6979931782030600.0achurchnearyou
CATEGORIES:
DESCRIPTION:A warm welcome awaits all who join us for our main service of 
 the week.
GEO:-3.471759;50.90509
LOCATION:St Andrew's
URL:https://www.achurchnearyou.com/church/8836/service-and-events/events/6
 97993/
END:VEVENT
BEGIN:VEVENT
SUMMARY:Said Eucharist
DTSTART;TZID=Europe/London:20260623T110000
DTEND;TZID=Europe/London:20260623T113000
DTSTAMP:20260422T160936Z
UID:4888481782208800.0achurchnearyou
CATEGORIES:
DESCRIPTION:Our Said Eucharist is followed by refreshments served in Churc
 h.
GEO:-3.471759;50.90509
LOCATION:St Andrew's
URL:https://www.achurchnearyou.com/church/8836/service-and-events/events/4
 88848/
END:VEVENT
BEGIN:VEVENT
SUMMARY:Sunday Sung Eucharist
DTSTART;TZID=Europe/London:20260628T093000
DTEND;TZID=Europe/London:20260628T103000
DTSTAMP:20260422T160936Z
UID:6979931782635400.0achurchnearyou
CATEGORIES:
DESCRIPTION:A warm welcome awaits all who join us for our main service of 
 the week.
GEO:-3.471759;50.90509
LOCATION:St Andrew's
URL:https://www.achurchnearyou.com/church/8836/service-and-events/events/6
 97993/
END:VEVENT
BEGIN:VEVENT
SUMMARY:Said Eucharist
DTSTART;TZID=Europe/London:20260630T110000
DTEND;TZID=Europe/London:20260630T113000
DTSTAMP:20260422T160936Z
UID:4888481782813600.0achurchnearyou
CATEGORIES:
DESCRIPTION:Our Said Eucharist is followed by refreshments served in Churc
 h.
GEO:-3.471759;50.90509
LOCATION:St Andrew's
URL:https://www.achurchnearyou.com/church/8836/service-and-events/events/4
 88848/
END:VEVENT
BEGIN:VEVENT
SUMMARY:Sunday Sung Eucharist
DTSTART;TZID=Europe/London:20260705T093000
DTEND;TZID=Europe/London:20260705T103000
DTSTAMP:20260422T160936Z
UID:6979931783240200.0achurchnearyou
CATEGORIES:
DESCRIPTION:A warm welcome awaits all who join us for our main service of 
 the week.
GEO:-3.471759;50.90509
LOCATION:St Andrew's
URL:https://www.achurchnearyou.com/church/8836/service-and-events/events/6
 97993/
END:VEVENT
BEGIN:VEVENT
SUMMARY:Said Eucharist
DTSTART;TZID=Europe/London:20260707T110000
DTEND;TZID=Europe/London:20260707T113000
DTSTAMP:20260422T160936Z
UID:4888481783418400.0achurchnearyou
CATEGORIES:
DESCRIPTION:Our Said Eucharist is followed by refreshments served in Churc
 h.
GEO:-3.471759;50.90509
LOCATION:St Andrew's
URL:https://www.achurchnearyou.com/church/8836/service-and-events/events/4
 88848/
END:VEVENT
BEGIN:VEVENT
SUMMARY:Sunday Sung Eucharist
DTSTART;TZID=Europe/London:20260712T093000
DTEND;TZID=Europe/London:20260712T103000
DTSTAMP:20260422T160936Z
UID:6979931783845000.0achurchnearyou
CATEGORIES:
DESCRIPTION:A warm welcome awaits all who join us for our main service of 
 the week.
GEO:-3.471759;50.90509
LOCATION:St Andrew's
URL:https://www.achurchnearyou.com/church/8836/service-and-events/events/6
 97993/
END:VEVENT
BEGIN:VEVENT
SUMMARY:Said Eucharist
DTSTART;TZID=Europe/London:20260714T110000
DTEND;TZID=Europe/London:20260714T113000
DTSTAMP:20260422T160936Z
UID:4888481784023200.0achurchnearyou
CATEGORIES:
DESCRIPTION:Our Said Eucharist is followed by refreshments served in Churc
 h.
GEO:-3.471759;50.90509
LOCATION:St Andrew's
URL:https://www.achurchnearyou.com/church/8836/service-and-events/events/4
 88848/
END:VEVENT
BEGIN:VEVENT
SUMMARY:Sunday Sung Eucharist
DTSTART;TZID=Europe/London:20260719T093000
DTEND;TZID=Europe/London:20260719T103000
DTSTAMP:20260422T160936Z
UID:6979931784449800.0achurchnearyou
CATEGORIES:
DESCRIPTION:A warm welcome awaits all who join us for our main service of 
 the week.
GEO:-3.471759;50.90509
LOCATION:St Andrew's
URL:https://www.achurchnearyou.com/church/8836/service-and-events/events/6
 97993/
END:VEVENT
BEGIN:VEVENT
SUMMARY:Said Eucharist
DTSTART;TZID=Europe/London:20260721T110000
DTEND;TZID=Europe/London:20260721T113000
DTSTAMP:20260422T160936Z
UID:4888481784628000.0achurchnearyou
CATEGORIES:
DESCRIPTION:Our Said Eucharist is followed by refreshments served in Churc
 h.
GEO:-3.471759;50.90509
LOCATION:St Andrew's
URL:https://www.achurchnearyou.com/church/8836/service-and-events/events/4
 88848/
END:VEVENT
BEGIN:VEVENT
SUMMARY:Sunday Sung Eucharist
DTSTART;TZID=Europe/London:20260726T093000
DTEND;TZID=Europe/London:20260726T103000
DTSTAMP:20260422T160936Z
UID:6979931785054600.0achurchnearyou
CATEGORIES:
DESCRIPTION:A warm welcome awaits all who join us for our main service of 
 the week.
GEO:-3.471759;50.90509
LOCATION:St Andrew's
URL:https://www.achurchnearyou.com/church/8836/service-and-events/events/6
 97993/
END:VEVENT
BEGIN:VEVENT
SUMMARY:Said Eucharist
DTSTART;TZID=Europe/London:20260728T110000
DTEND;TZID=Europe/London:20260728T113000
DTSTAMP:20260422T160936Z
UID:4888481785232800.0achurchnearyou
CATEGORIES:
DESCRIPTION:Our Said Eucharist is followed by refreshments served in Churc
 h.
GEO:-3.471759;50.90509
LOCATION:St Andrew's
URL:https://www.achurchnearyou.com/church/8836/service-and-events/events/4
 88848/
END:VEVENT
BEGIN:VEVENT
SUMMARY:Sunday Sung Eucharist
DTSTART;TZID=Europe/London:20260802T093000
DTEND;TZID=Europe/London:20260802T103000
DTSTAMP:20260422T160936Z
UID:6979931785659400.0achurchnearyou
CATEGORIES:
DESCRIPTION:A warm welcome awaits all who join us for our main service of 
 the week.
GEO:-3.471759;50.90509
LOCATION:St Andrew's
URL:https://www.achurchnearyou.com/church/8836/service-and-events/events/6
 97993/
END:VEVENT
BEGIN:VEVENT
SUMMARY:Said Eucharist
DTSTART;TZID=Europe/London:20260804T110000
DTEND;TZID=Europe/London:20260804T113000
DTSTAMP:20260422T160936Z
UID:4888481785837600.0achurchnearyou
CATEGORIES:
DESCRIPTION:Our Said Eucharist is followed by refreshments served in Churc
 h.
GEO:-3.471759;50.90509
LOCATION:St Andrew's
URL:https://www.achurchnearyou.com/church/8836/service-and-events/events/4
 88848/
END:VEVENT
BEGIN:VEVENT
SUMMARY:Sunday Sung Eucharist
DTSTART;TZID=Europe/London:20260809T093000
DTEND;TZID=Europe/London:20260809T103000
DTSTAMP:20260422T160936Z
UID:6979931786264200.0achurchnearyou
CATEGORIES:
DESCRIPTION:A warm welcome awaits all who join us for our main service of 
 the week.
GEO:-3.471759;50.90509
LOCATION:St Andrew's
URL:https://www.achurchnearyou.com/church/8836/service-and-events/events/6
 97993/
END:VEVENT
BEGIN:VEVENT
SUMMARY:Said Eucharist
DTSTART;TZID=Europe/London:20260811T110000
DTEND;TZID=Europe/London:20260811T113000
DTSTAMP:20260422T160936Z
UID:4888481786442400.0achurchnearyou
CATEGORIES:
DESCRIPTION:Our Said Eucharist is followed by refreshments served in Churc
 h.
GEO:-3.471759;50.90509
LOCATION:St Andrew's
URL:https://www.achurchnearyou.com/church/8836/service-and-events/events/4
 88848/
END:VEVENT
BEGIN:VEVENT
SUMMARY:Sunday Sung Eucharist
DTSTART;TZID=Europe/London:20260816T093000
DTEND;TZID=Europe/London:20260816T103000
DTSTAMP:20260422T160936Z
UID:6979931786869000.0achurchnearyou
CATEGORIES:
DESCRIPTION:A warm welcome awaits all who join us for our main service of 
 the week.
GEO:-3.471759;50.90509
LOCATION:St Andrew's
URL:https://www.achurchnearyou.com/church/8836/service-and-events/events/6
 97993/
END:VEVENT
BEGIN:VEVENT
SUMMARY:Said Eucharist
DTSTART;TZID=Europe/London:20260818T110000
DTEND;TZID=Europe/London:20260818T113000
DTSTAMP:20260422T160936Z
UID:4888481787047200.0achurchnearyou
CATEGORIES:
DESCRIPTION:Our Said Eucharist is followed by refreshments served in Churc
 h.
GEO:-3.471759;50.90509
LOCATION:St Andrew's
URL:https://www.achurchnearyou.com/church/8836/service-and-events/events/4
 88848/
END:VEVENT
BEGIN:VEVENT
SUMMARY:Sunday Sung Eucharist
DTSTART;TZID=Europe/London:20260823T093000
DTEND;TZID=Europe/London:20260823T103000
DTSTAMP:20260422T160936Z
UID:6979931787473800.0achurchnearyou
CATEGORIES:
DESCRIPTION:A warm welcome awaits all who join us for our main service of 
 the week.
GEO:-3.471759;50.90509
LOCATION:St Andrew's
URL:https://www.achurchnearyou.com/church/8836/service-and-events/events/6
 97993/
END:VEVENT
BEGIN:VEVENT
SUMMARY:Said Eucharist
DTSTART;TZID=Europe/London:20260825T110000
DTEND;TZID=Europe/London:20260825T113000
DTSTAMP:20260422T160936Z
UID:4888481787652000.0achurchnearyou
CATEGORIES:
DESCRIPTION:Our Said Eucharist is followed by refreshments served in Churc
 h.
GEO:-3.471759;50.90509
LOCATION:St Andrew's
URL:https://www.achurchnearyou.com/church/8836/service-and-events/events/4
 88848/
END:VEVENT
BEGIN:VEVENT
SUMMARY:Sunday Sung Eucharist
DTSTART;TZID=Europe/London:20260830T093000
DTEND;TZID=Europe/London:20260830T103000
DTSTAMP:20260422T160936Z
UID:6979931788078600.0achurchnearyou
CATEGORIES:
DESCRIPTION:A warm welcome awaits all who join us for our main service of 
 the week.
GEO:-3.471759;50.90509
LOCATION:St Andrew's
URL:https://www.achurchnearyou.com/church/8836/service-and-events/events/6
 97993/
END:VEVENT
BEGIN:VEVENT
SUMMARY:Said Eucharist
DTSTART;TZID=Europe/London:20260901T110000
DTEND;TZID=Europe/London:20260901T113000
DTSTAMP:20260422T160936Z
UID:4888481788256800.0achurchnearyou
CATEGORIES:
DESCRIPTION:Our Said Eucharist is followed by refreshments served in Churc
 h.
GEO:-3.471759;50.90509
LOCATION:St Andrew's
URL:https://www.achurchnearyou.com/church/8836/service-and-events/events/4
 88848/
END:VEVENT
BEGIN:VEVENT
SUMMARY:Sunday Sung Eucharist
DTSTART;TZID=Europe/London:20260906T093000
DTEND;TZID=Europe/London:20260906T103000
DTSTAMP:20260422T160936Z
UID:6979931788683400.0achurchnearyou
CATEGORIES:
DESCRIPTION:A warm welcome awaits all who join us for our main service of 
 the week.
GEO:-3.471759;50.90509
LOCATION:St Andrew's
URL:https://www.achurchnearyou.com/church/8836/service-and-events/events/6
 97993/
END:VEVENT
BEGIN:VEVENT
SUMMARY:Said Eucharist
DTSTART;TZID=Europe/London:20260908T110000
DTEND;TZID=Europe/London:20260908T113000
DTSTAMP:20260422T160936Z
UID:4888481788861600.0achurchnearyou
CATEGORIES:
DESCRIPTION:Our Said Eucharist is followed by refreshments served in Churc
 h.
GEO:-3.471759;50.90509
LOCATION:St Andrew's
URL:https://www.achurchnearyou.com/church/8836/service-and-events/events/4
 88848/
END:VEVENT
BEGIN:VEVENT
SUMMARY:Sunday Sung Eucharist
DTSTART;TZID=Europe/London:20260913T093000
DTEND;TZID=Europe/London:20260913T103000
DTSTAMP:20260422T160936Z
UID:6979931789288200.0achurchnearyou
CATEGORIES:
DESCRIPTION:A warm welcome awaits all who join us for our main service of 
 the week.
GEO:-3.471759;50.90509
LOCATION:St Andrew's
URL:https://www.achurchnearyou.com/church/8836/service-and-events/events/6
 97993/
END:VEVENT
BEGIN:VEVENT
SUMMARY:Said Eucharist
DTSTART;TZID=Europe/London:20260915T110000
DTEND;TZID=Europe/London:20260915T113000
DTSTAMP:20260422T160936Z
UID:4888481789466400.0achurchnearyou
CATEGORIES:
DESCRIPTION:Our Said Eucharist is followed by refreshments served in Churc
 h.
GEO:-3.471759;50.90509
LOCATION:St Andrew's
URL:https://www.achurchnearyou.com/church/8836/service-and-events/events/4
 88848/
END:VEVENT
BEGIN:VEVENT
SUMMARY:Sunday Sung Eucharist
DTSTART;TZID=Europe/London:20260920T093000
DTEND;TZID=Europe/London:20260920T103000
DTSTAMP:20260422T160936Z
UID:6979931789893000.0achurchnearyou
CATEGORIES:
DESCRIPTION:A warm welcome awaits all who join us for our main service of 
 the week.
GEO:-3.471759;50.90509
LOCATION:St Andrew's
URL:https://www.achurchnearyou.com/church/8836/service-and-events/events/6
 97993/
END:VEVENT
BEGIN:VEVENT
SUMMARY:Said Eucharist
DTSTART;TZID=Europe/London:20260922T110000
DTEND;TZID=Europe/London:20260922T113000
DTSTAMP:20260422T160936Z
UID:4888481790071200.0achurchnearyou
CATEGORIES:
DESCRIPTION:Our Said Eucharist is followed by refreshments served in Churc
 h.
GEO:-3.471759;50.90509
LOCATION:St Andrew's
URL:https://www.achurchnearyou.com/church/8836/service-and-events/events/4
 88848/
END:VEVENT
BEGIN:VEVENT
SUMMARY:Sunday Sung Eucharist
DTSTART;TZID=Europe/London:20260927T093000
DTEND;TZID=Europe/London:20260927T103000
DTSTAMP:20260422T160936Z
UID:6979931790497800.0achurchnearyou
CATEGORIES:
DESCRIPTION:A warm welcome awaits all who join us for our main service of 
 the week.
GEO:-3.471759;50.90509
LOCATION:St Andrew's
URL:https://www.achurchnearyou.com/church/8836/service-and-events/events/6
 97993/
END:VEVENT
BEGIN:VEVENT
SUMMARY:Said Eucharist
DTSTART;TZID=Europe/London:20260929T110000
DTEND;TZID=Europe/London:20260929T113000
DTSTAMP:20260422T160936Z
UID:4888481790676000.0achurchnearyou
CATEGORIES:
DESCRIPTION:Our Said Eucharist is followed by refreshments served in Churc
 h.
GEO:-3.471759;50.90509
LOCATION:St Andrew's
URL:https://www.achurchnearyou.com/church/8836/service-and-events/events/4
 88848/
END:VEVENT
END:VCALENDAR
