BEGIN:VCALENDAR
VERSION:2.0
PRODID:-//achurchnearyou.com//eventfeed//EN
CALSCALE:GREGORIAN
METHOD:PUBLISH
X-WR-TIMEZONE:UTC
BEGIN:VEVENT
SUMMARY:Christingle / Service of Light
DTSTART:20260104T150000Z
DTEND:20260104T160000Z
DTSTAMP:20260422T095218Z
UID:12693312026-01-04 15:00:00+00:00achurchnearyou
CATEGORIES:
DESCRIPTION:Join us at the start of the year for a service of light where 
 we will be making Christingles.
GEO:-3.695298;50.541533
LOCATION:St Mary the Virgin\, Bickington
URL:https://www.achurchnearyou.com/church/8843/service-and-events/events/1
 269331/
END:VEVENT
END:VCALENDAR
