BEGIN:VCALENDAR
VERSION:2.0
PRODID:-//achurchnearyou.com//eventfeed//EN
CALSCALE:GREGORIAN
METHOD:PUBLISH
X-WR-TIMEZONE:UTC
BEGIN:VEVENT
SUMMARY:Carols by Candlelight
DTSTART:20251219T180000Z
DTEND:20251219T190000Z
DTSTAMP:20260421T033530Z
UID:12693662025-12-19 18:00:00+00:00achurchnearyou
CATEGORIES:
DESCRIPTION:Join us for an evening Carol Service at St Raphael’s.
GEO:-3.888533;50.541733
LOCATION:St Raphael's\, Huccaby
URL:https://www.achurchnearyou.com/church/8848/service-and-events/events/1
 269366/
END:VEVENT
END:VCALENDAR
