BEGIN:VCALENDAR
VERSION:2.0
PRODID:-//achurchnearyou.com//eventfeed//EN
CALSCALE:GREGORIAN
METHOD:PUBLISH
X-WR-TIMEZONE:UTC
BEGIN:VEVENT
SUMMARY:Walk of Witness
DTSTART:20250418T090000Z
DTEND:20250418T100000Z
DTSTAMP:20260426T041440Z
UID:11746332025-04-18 09:00:00+00:00achurchnearyou
CATEGORIES:
DESCRIPTION:A 30-minute walk through the town with hymns and prayers\, sta
 rting in The Square shortly after 10 am\, and finishing in the Community C
 hurch Chapel (8 Fore Street) with refreshments
LOCATION:The Square
URL:https://www.achurchnearyou.com/church/8858/service-and-events/events/1
 174633/
END:VEVENT
END:VCALENDAR
