BEGIN:VCALENDAR
VERSION:2.0
PRODID:-//achurchnearyou.com//eventfeed//EN
CALSCALE:GREGORIAN
METHOD:PUBLISH
X-WR-TIMEZONE:UTC
BEGIN:VEVENT
SUMMARY:Christingle service
DTSTART:20251213T170000Z
DTEND:20251213T180000Z
DTSTAMP:20260425T163249Z
UID:12568942025-12-13 17:00:00+00:00achurchnearyou
CATEGORIES:
DESCRIPTION:This service is a festive\, candlelit Christian celebration\, 
 using a symbolic orange to represent Jesus' light and message of hope.  Ch
 ildren and families are given a Christingle — an orange decorated with f
 ruit\, sweets\, a red ribbon\, and topped with a candle — which is lit d
 uring the service to symbolise Jesus bringing light to the world.
GEO:-3.762366;50.661152
LOCATION:St Andrew\, Moretonhampstead
URL:https://www.achurchnearyou.com/church/8858/service-and-events/events/1
 256894/
END:VEVENT
END:VCALENDAR
