BEGIN:VCALENDAR
VERSION:2.0
PRODID:-//achurchnearyou.com//eventfeed//EN
CALSCALE:GREGORIAN
METHOD:PUBLISH
X-WR-TIMEZONE:UTC
BEGIN:VEVENT
SUMMARY:Said Eucharist for the Monday of Holy Week
DTSTART:20250414T183000Z
DTEND:20250414T190000Z
DTSTAMP:20260419T220909Z
UID:11890702025-04-14 18:30:00+00:00achurchnearyou
CATEGORIES:
DESCRIPTION:A quiet and reflective celebration of the Eucharist for a week
 day of Holy Week
LOCATION:St Michael's Kingsteignton
URL:https://www.achurchnearyou.com/church/8871/service-and-events/events/1
 189070/
END:VEVENT
END:VCALENDAR
