BEGIN:VCALENDAR
VERSION:2.0
PRODID:-//achurchnearyou.com//eventfeed//EN
CALSCALE:GREGORIAN
METHOD:PUBLISH
X-WR-TIMEZONE:UTC
BEGIN:VEVENT
SUMMARY:Prayer & Praise
DTSTART:20260517T180000Z
DTEND:20260517T190000Z
DTSTAMP:20260420T011913Z
UID:13246532026-05-17 18:00:00+00:00achurchnearyou
CATEGORIES:
DESCRIPTION:This is a time of singing\, worship and sharing. Everyone is v
 ery welcome to join us in this service\n\nThis service is led by Rev. Leig
 h Winsbury
GEO:-4.072035;50.82284
LOCATION:St John the Baptist
URL:https://www.achurchnearyou.com/church/8887/service-and-events/events/1
 324653/
END:VEVENT
END:VCALENDAR
