BEGIN:VCALENDAR
VERSION:2.0
PRODID:-//achurchnearyou.com//eventfeed//EN
CALSCALE:GREGORIAN
METHOD:PUBLISH
X-WR-TIMEZONE:UTC
BEGIN:VEVENT
SUMMARY:Holy Communion
DTSTART:20260215T093000Z
DTEND:20260215T103000Z
DTSTAMP:20260425T210912Z
UID:12824942026-02-15 09:30:00+00:00achurchnearyou
CATEGORIES:
DESCRIPTION:This service is led by Rev. Leigh Winsbury\n\nThe next Sunday 
 before Lent
GEO:-3.984325;50.80035
LOCATION:St Mary Blessed Virgin
URL:https://www.achurchnearyou.com/church/8889/service-and-events/events/1
 282494/
END:VEVENT
END:VCALENDAR
