BEGIN:VCALENDAR
VERSION:2.0
PRODID:-//achurchnearyou.com//eventfeed//EN
CALSCALE:GREGORIAN
METHOD:PUBLISH
X-WR-TIMEZONE:UTC
BEGIN:VEVENT
SUMMARY:Praise@5:30
DTSTART;TZID=Europe/London:20260322T173000
DTEND;TZID=Europe/London:20260322T183000
DTSTAMP:20260425T220212Z
UID:13020532026-03-22 17:30:00+00:00achurchnearyou
CATEGORIES:
DESCRIPTION:An informal service of Praise and Worship with help from our y
 oung people
GEO:-3.506548;50.467728
LOCATION:St Matthias Church Torquay
URL:https://www.achurchnearyou.com/church/8928/service-and-events/events/1
 302053/
END:VEVENT
BEGIN:VEVENT
SUMMARY:Praise@5:30
DTSTART;TZID=Europe/London:20260426T173000
DTEND;TZID=Europe/London:20260426T183000
DTSTAMP:20260425T220212Z
UID:13020532026-04-26 17:30:00+01:00achurchnearyou
CATEGORIES:
DESCRIPTION:An informal service of Praise and Worship with help from our y
 oung people
GEO:-3.506548;50.467728
LOCATION:St Matthias Church Torquay
URL:https://www.achurchnearyou.com/church/8928/service-and-events/events/1
 302053/
END:VEVENT
BEGIN:VEVENT
SUMMARY:Praise@5:30
DTSTART;TZID=Europe/London:20260524T173000
DTEND;TZID=Europe/London:20260524T183000
DTSTAMP:20260425T220212Z
UID:13020532026-05-24 17:30:00+01:00achurchnearyou
CATEGORIES:
DESCRIPTION:An informal service of Praise and Worship with help from our y
 oung people
GEO:-3.506548;50.467728
LOCATION:St Matthias Church Torquay
URL:https://www.achurchnearyou.com/church/8928/service-and-events/events/1
 302053/
END:VEVENT
BEGIN:VEVENT
SUMMARY:Praise@5:30
DTSTART;TZID=Europe/London:20260628T173000
DTEND;TZID=Europe/London:20260628T183000
DTSTAMP:20260425T220212Z
UID:13020532026-06-28 17:30:00+01:00achurchnearyou
CATEGORIES:
DESCRIPTION:An informal service of Praise and Worship with help from our y
 oung people
GEO:-3.506548;50.467728
LOCATION:St Matthias Church Torquay
URL:https://www.achurchnearyou.com/church/8928/service-and-events/events/1
 302053/
END:VEVENT
BEGIN:VEVENT
SUMMARY:Praise@5:30
DTSTART;TZID=Europe/London:20260726T173000
DTEND;TZID=Europe/London:20260726T183000
DTSTAMP:20260425T220212Z
UID:13020532026-07-26 17:30:00+01:00achurchnearyou
CATEGORIES:
DESCRIPTION:An informal service of Praise and Worship with help from our y
 oung people
GEO:-3.506548;50.467728
LOCATION:St Matthias Church Torquay
URL:https://www.achurchnearyou.com/church/8928/service-and-events/events/1
 302053/
END:VEVENT
BEGIN:VEVENT
SUMMARY:Praise@5:30
DTSTART;TZID=Europe/London:20260823T173000
DTEND;TZID=Europe/London:20260823T183000
DTSTAMP:20260425T220212Z
UID:13020532026-08-23 17:30:00+01:00achurchnearyou
CATEGORIES:
DESCRIPTION:An informal service of Praise and Worship with help from our y
 oung people
GEO:-3.506548;50.467728
LOCATION:St Matthias Church Torquay
URL:https://www.achurchnearyou.com/church/8928/service-and-events/events/1
 302053/
END:VEVENT
BEGIN:VEVENT
SUMMARY:Praise@5:30
DTSTART;TZID=Europe/London:20260927T173000
DTEND;TZID=Europe/London:20260927T183000
DTSTAMP:20260425T220212Z
UID:13020532026-09-27 17:30:00+01:00achurchnearyou
CATEGORIES:
DESCRIPTION:An informal service of Praise and Worship with help from our y
 oung people
GEO:-3.506548;50.467728
LOCATION:St Matthias Church Torquay
URL:https://www.achurchnearyou.com/church/8928/service-and-events/events/1
 302053/
END:VEVENT
BEGIN:VEVENT
SUMMARY:Praise@5:30
DTSTART;TZID=Europe/London:20261025T173000
DTEND;TZID=Europe/London:20261025T183000
DTSTAMP:20260425T220212Z
UID:13020532026-10-25 17:30:00+00:00achurchnearyou
CATEGORIES:
DESCRIPTION:An informal service of Praise and Worship with help from our y
 oung people
GEO:-3.506548;50.467728
LOCATION:St Matthias Church Torquay
URL:https://www.achurchnearyou.com/church/8928/service-and-events/events/1
 302053/
END:VEVENT
BEGIN:VEVENT
SUMMARY:Praise@5:30
DTSTART;TZID=Europe/London:20261122T173000
DTEND;TZID=Europe/London:20261122T183000
DTSTAMP:20260425T220212Z
UID:13020532026-11-22 17:30:00+00:00achurchnearyou
CATEGORIES:
DESCRIPTION:An informal service of Praise and Worship with help from our y
 oung people
GEO:-3.506548;50.467728
LOCATION:St Matthias Church Torquay
URL:https://www.achurchnearyou.com/church/8928/service-and-events/events/1
 302053/
END:VEVENT
BEGIN:VEVENT
SUMMARY:Praise@5:30
DTSTART;TZID=Europe/London:20261227T173000
DTEND;TZID=Europe/London:20261227T183000
DTSTAMP:20260425T220212Z
UID:13020532026-12-27 17:30:00+00:00achurchnearyou
CATEGORIES:
DESCRIPTION:An informal service of Praise and Worship with help from our y
 oung people
GEO:-3.506548;50.467728
LOCATION:St Matthias Church Torquay
URL:https://www.achurchnearyou.com/church/8928/service-and-events/events/1
 302053/
END:VEVENT
BEGIN:VEVENT
SUMMARY:Praise@5:30
DTSTART;TZID=Europe/London:20270124T173000
DTEND;TZID=Europe/London:20270124T183000
DTSTAMP:20260425T220212Z
UID:13020532027-01-24 17:30:00+00:00achurchnearyou
CATEGORIES:
DESCRIPTION:An informal service of Praise and Worship with help from our y
 oung people
GEO:-3.506548;50.467728
LOCATION:St Matthias Church Torquay
URL:https://www.achurchnearyou.com/church/8928/service-and-events/events/1
 302053/
END:VEVENT
BEGIN:VEVENT
SUMMARY:Praise@5:30
DTSTART;TZID=Europe/London:20270228T173000
DTEND;TZID=Europe/London:20270228T183000
DTSTAMP:20260425T220212Z
UID:13020532027-02-28 17:30:00+00:00achurchnearyou
CATEGORIES:
DESCRIPTION:An informal service of Praise and Worship with help from our y
 oung people
GEO:-3.506548;50.467728
LOCATION:St Matthias Church Torquay
URL:https://www.achurchnearyou.com/church/8928/service-and-events/events/1
 302053/
END:VEVENT
BEGIN:VEVENT
SUMMARY:Praise@5:30
DTSTART;TZID=Europe/London:20270328T173000
DTEND;TZID=Europe/London:20270328T183000
DTSTAMP:20260425T220212Z
UID:13020532027-03-28 17:30:00+01:00achurchnearyou
CATEGORIES:
DESCRIPTION:An informal service of Praise and Worship with help from our y
 oung people
GEO:-3.506548;50.467728
LOCATION:St Matthias Church Torquay
URL:https://www.achurchnearyou.com/church/8928/service-and-events/events/1
 302053/
END:VEVENT
BEGIN:VEVENT
SUMMARY:Praise@5:30
DTSTART;TZID=Europe/London:20270425T173000
DTEND;TZID=Europe/London:20270425T183000
DTSTAMP:20260425T220212Z
UID:13020532027-04-25 17:30:00+01:00achurchnearyou
CATEGORIES:
DESCRIPTION:An informal service of Praise and Worship with help from our y
 oung people
GEO:-3.506548;50.467728
LOCATION:St Matthias Church Torquay
URL:https://www.achurchnearyou.com/church/8928/service-and-events/events/1
 302053/
END:VEVENT
END:VCALENDAR
