BEGIN:VCALENDAR
VERSION:2.0
PRODID:-//achurchnearyou.com//eventfeed//EN
CALSCALE:GREGORIAN
METHOD:PUBLISH
X-WR-TIMEZONE:UTC
BEGIN:VEVENT
SUMMARY:Alpha
DTSTART;TZID=Europe/London:20260414T123000
DTEND;TZID=Europe/London:20260414T140000
DTSTAMP:20260425T220431Z
UID:13102932026-04-14 12:30:00+01:00achurchnearyou
CATEGORIES:
DESCRIPTION:Our next Alpha course starts on the 14th April\, and continues
  on Tuesdays at 12:30 with a light lunch.  Alpha is a space to unpack the 
 basics of the Christian faith together. Please have a word with one of the
  clergy\, or use this link  https://alpha.org.uk/   to find out more
GEO:-3.506548;50.467728
LOCATION:St Matthias Church Torquay
URL:https://www.achurchnearyou.com/church/8928/service-and-events/events/1
 310293/
END:VEVENT
BEGIN:VEVENT
SUMMARY:Alpha
DTSTART;TZID=Europe/London:20260421T123000
DTEND;TZID=Europe/London:20260421T140000
DTSTAMP:20260425T220431Z
UID:13102932026-04-21 12:30:00+01:00achurchnearyou
CATEGORIES:
DESCRIPTION:Our next Alpha course starts on the 14th April\, and continues
  on Tuesdays at 12:30 with a light lunch.  Alpha is a space to unpack the 
 basics of the Christian faith together. Please have a word with one of the
  clergy\, or use this link  https://alpha.org.uk/   to find out more
GEO:-3.506548;50.467728
LOCATION:St Matthias Church Torquay
URL:https://www.achurchnearyou.com/church/8928/service-and-events/events/1
 310293/
END:VEVENT
BEGIN:VEVENT
SUMMARY:Alpha
DTSTART;TZID=Europe/London:20260428T123000
DTEND;TZID=Europe/London:20260428T140000
DTSTAMP:20260425T220431Z
UID:13102932026-04-28 12:30:00+01:00achurchnearyou
CATEGORIES:
DESCRIPTION:Our next Alpha course starts on the 14th April\, and continues
  on Tuesdays at 12:30 with a light lunch.  Alpha is a space to unpack the 
 basics of the Christian faith together. Please have a word with one of the
  clergy\, or use this link  https://alpha.org.uk/   to find out more
GEO:-3.506548;50.467728
LOCATION:St Matthias Church Torquay
URL:https://www.achurchnearyou.com/church/8928/service-and-events/events/1
 310293/
END:VEVENT
BEGIN:VEVENT
SUMMARY:Alpha
DTSTART;TZID=Europe/London:20260505T123000
DTEND;TZID=Europe/London:20260505T140000
DTSTAMP:20260425T220431Z
UID:13102932026-05-05 12:30:00+01:00achurchnearyou
CATEGORIES:
DESCRIPTION:Our next Alpha course starts on the 14th April\, and continues
  on Tuesdays at 12:30 with a light lunch.  Alpha is a space to unpack the 
 basics of the Christian faith together. Please have a word with one of the
  clergy\, or use this link  https://alpha.org.uk/   to find out more
GEO:-3.506548;50.467728
LOCATION:St Matthias Church Torquay
URL:https://www.achurchnearyou.com/church/8928/service-and-events/events/1
 310293/
END:VEVENT
BEGIN:VEVENT
SUMMARY:Alpha
DTSTART;TZID=Europe/London:20260512T123000
DTEND;TZID=Europe/London:20260512T140000
DTSTAMP:20260425T220431Z
UID:13102932026-05-12 12:30:00+01:00achurchnearyou
CATEGORIES:
DESCRIPTION:Our next Alpha course starts on the 14th April\, and continues
  on Tuesdays at 12:30 with a light lunch.  Alpha is a space to unpack the 
 basics of the Christian faith together. Please have a word with one of the
  clergy\, or use this link  https://alpha.org.uk/   to find out more
GEO:-3.506548;50.467728
LOCATION:St Matthias Church Torquay
URL:https://www.achurchnearyou.com/church/8928/service-and-events/events/1
 310293/
END:VEVENT
BEGIN:VEVENT
SUMMARY:Alpha
DTSTART;TZID=Europe/London:20260519T123000
DTEND;TZID=Europe/London:20260519T140000
DTSTAMP:20260425T220431Z
UID:13102932026-05-19 12:30:00+01:00achurchnearyou
CATEGORIES:
DESCRIPTION:Our next Alpha course starts on the 14th April\, and continues
  on Tuesdays at 12:30 with a light lunch.  Alpha is a space to unpack the 
 basics of the Christian faith together. Please have a word with one of the
  clergy\, or use this link  https://alpha.org.uk/   to find out more
GEO:-3.506548;50.467728
LOCATION:St Matthias Church Torquay
URL:https://www.achurchnearyou.com/church/8928/service-and-events/events/1
 310293/
END:VEVENT
BEGIN:VEVENT
SUMMARY:Alpha
DTSTART;TZID=Europe/London:20260526T123000
DTEND;TZID=Europe/London:20260526T140000
DTSTAMP:20260425T220431Z
UID:13102932026-05-26 12:30:00+01:00achurchnearyou
CATEGORIES:
DESCRIPTION:Our next Alpha course starts on the 14th April\, and continues
  on Tuesdays at 12:30 with a light lunch.  Alpha is a space to unpack the 
 basics of the Christian faith together. Please have a word with one of the
  clergy\, or use this link  https://alpha.org.uk/   to find out more
GEO:-3.506548;50.467728
LOCATION:St Matthias Church Torquay
URL:https://www.achurchnearyou.com/church/8928/service-and-events/events/1
 310293/
END:VEVENT
BEGIN:VEVENT
SUMMARY:Alpha
DTSTART;TZID=Europe/London:20260602T123000
DTEND;TZID=Europe/London:20260602T140000
DTSTAMP:20260425T220431Z
UID:13102932026-06-02 12:30:00+01:00achurchnearyou
CATEGORIES:
DESCRIPTION:Our next Alpha course starts on the 14th April\, and continues
  on Tuesdays at 12:30 with a light lunch.  Alpha is a space to unpack the 
 basics of the Christian faith together. Please have a word with one of the
  clergy\, or use this link  https://alpha.org.uk/   to find out more
GEO:-3.506548;50.467728
LOCATION:St Matthias Church Torquay
URL:https://www.achurchnearyou.com/church/8928/service-and-events/events/1
 310293/
END:VEVENT
BEGIN:VEVENT
SUMMARY:Alpha
DTSTART;TZID=Europe/London:20260609T123000
DTEND;TZID=Europe/London:20260609T140000
DTSTAMP:20260425T220431Z
UID:13102932026-06-09 12:30:00+01:00achurchnearyou
CATEGORIES:
DESCRIPTION:Our next Alpha course starts on the 14th April\, and continues
  on Tuesdays at 12:30 with a light lunch.  Alpha is a space to unpack the 
 basics of the Christian faith together. Please have a word with one of the
  clergy\, or use this link  https://alpha.org.uk/   to find out more
GEO:-3.506548;50.467728
LOCATION:St Matthias Church Torquay
URL:https://www.achurchnearyou.com/church/8928/service-and-events/events/1
 310293/
END:VEVENT
BEGIN:VEVENT
SUMMARY:Alpha
DTSTART;TZID=Europe/London:20260616T123000
DTEND;TZID=Europe/London:20260616T140000
DTSTAMP:20260425T220431Z
UID:13102932026-06-16 12:30:00+01:00achurchnearyou
CATEGORIES:
DESCRIPTION:Our next Alpha course starts on the 14th April\, and continues
  on Tuesdays at 12:30 with a light lunch.  Alpha is a space to unpack the 
 basics of the Christian faith together. Please have a word with one of the
  clergy\, or use this link  https://alpha.org.uk/   to find out more
GEO:-3.506548;50.467728
LOCATION:St Matthias Church Torquay
URL:https://www.achurchnearyou.com/church/8928/service-and-events/events/1
 310293/
END:VEVENT
END:VCALENDAR
