BEGIN:VCALENDAR
VERSION:2.0
PRODID:-//achurchnearyou.com//eventfeed//EN
CALSCALE:GREGORIAN
METHOD:PUBLISH
X-WR-TIMEZONE:UTC
BEGIN:VEVENT
SUMMARY:Meditation in Melody
DTSTART:20260403T140000Z
DTEND:20260403T150000Z
DTSTAMP:20260421T224556Z
UID:13204822026-04-03 14:00:00+00:00achurchnearyou
CATEGORIES:
DESCRIPTION:A Lenten reflection with music by Pergolessi and Bach\, and re
 adings from the Word
GEO:-3.578995;50.352009
LOCATION:St Saviour's Church Dartmouth
URL:https://www.achurchnearyou.com/church/8939/service-and-events/events/1
 320482/
END:VEVENT
END:VCALENDAR
