BEGIN:VCALENDAR
VERSION:2.0
PRODID:-//achurchnearyou.com//eventfeed//EN
CALSCALE:GREGORIAN
METHOD:PUBLISH
X-WR-TIMEZONE:UTC
BEGIN:VEVENT
SUMMARY:Maundy Meal with Communion
DTSTART;TZID=Europe/London:20260402T160000
DTEND;TZID=Europe/London:20260402T173000
DTSTAMP:20260422T034710Z
UID:13204571775142000.0achurchnearyou
CATEGORIES:
DESCRIPTION:Join us on Maundy Thursday to enjoy a simple meal of soup and 
 bread as we reflect on the events of the Last Supper. Sign-up sheets avail
 able in all our churches
LOCATION:St Clement's Church Townstal
URL:https://www.achurchnearyou.com/church/8941/service-and-events/events/1
 320457/
END:VEVENT
BEGIN:VEVENT
SUMMARY:Family Communion
DTSTART;TZID=Europe/London:20260403T100000
DTEND;TZID=Europe/London:20260403T110000
DTSTAMP:20260422T034710Z
UID:13204641775206800.0achurchnearyou
CATEGORIES:
DESCRIPTION:Family communion followed by hot cross buns. Stay for our East
 er egg trail afterwards!
URL:https://www.achurchnearyou.com/church/8941/service-and-events/events/1
 320464/
END:VEVENT
BEGIN:VEVENT
SUMMARY:Easter Egg Trail
DTSTART;TZID=Europe/London:20260403T110000
DTEND;TZID=Europe/London:20260403T120000
DTSTAMP:20260422T034710Z
UID:13204701775210400.0achurchnearyou
CATEGORIES:
DESCRIPTION:Follow the trail\, find the clues and win and EGG! \nRefreshme
 nt and instructions available inside the church.
LOCATION:St Clement's Church Townstal
URL:https://www.achurchnearyou.com/church/8941/service-and-events/events/1
 320470/
END:VEVENT
BEGIN:VEVENT
SUMMARY:Meditation in Melody
DTSTART;TZID=Europe/London:20260403T150000
DTEND;TZID=Europe/London:20260403T160000
DTSTAMP:20260422T034710Z
UID:13204841775224800.0achurchnearyou
CATEGORIES:
DESCRIPTION:A Lenten reflection with music by Pergolessi and Bach\, and re
 adings from the Word
LOCATION:St Saviour's Church Dartmouth
URL:https://www.achurchnearyou.com/church/8941/service-and-events/events/1
 320484/
END:VEVENT
BEGIN:VEVENT
SUMMARY:Easter Day Service
DTSTART;TZID=Europe/London:20260405T091500
DTEND;TZID=Europe/London:20260405T100000
DTSTAMP:20260422T034710Z
UID:13204781775376900.0achurchnearyou
CATEGORIES:
DESCRIPTION:Join us in church on Easter Sunday
GEO:-3.602894;50.384441
LOCATION:St George's Church Dittisham
URL:https://www.achurchnearyou.com/church/8941/service-and-events/events/1
 320478/
END:VEVENT
BEGIN:VEVENT
SUMMARY:Holy Communion\, Village Worship or Service of the Word
DTSTART;TZID=Europe/London:20260405T091500
DTEND;TZID=Europe/London:20260405T100000
DTSTAMP:20260422T034710Z
UID:2371861775376900.0achurchnearyou
CATEGORIES:
DESCRIPTION:Holy Communion\, Village Worship or Service of the Word
GEO:-3.602894;50.384441
LOCATION:St George's Church Dittisham
URL:https://www.achurchnearyou.com/church/8941/service-and-events/events/2
 37186/
END:VEVENT
BEGIN:VEVENT
SUMMARY:Easter Day Service
DTSTART;TZID=Europe/London:20260405T110000
DTEND;TZID=Europe/London:20260405T120000
DTSTAMP:20260422T034710Z
UID:13204741775383200.0achurchnearyou
CATEGORIES:
DESCRIPTION:Sung eucharist service
LOCATION:St Saviour's Church Dartmouth
URL:https://www.achurchnearyou.com/church/8941/service-and-events/events/1
 320474/
END:VEVENT
BEGIN:VEVENT
SUMMARY:Holy Communion\, Village Worship or Service of the Word
DTSTART;TZID=Europe/London:20260412T091500
DTEND;TZID=Europe/London:20260412T100000
DTSTAMP:20260422T034710Z
UID:2371871775981700.0achurchnearyou
CATEGORIES:
DESCRIPTION:Holy Communion\, Village Worship or Service of the Word
GEO:-3.602894;50.384441
LOCATION:St George's Church Dittisham
URL:https://www.achurchnearyou.com/church/8941/service-and-events/events/2
 37187/
END:VEVENT
BEGIN:VEVENT
SUMMARY:Springtime Nature Day
DTSTART;TZID=Europe/London:20260417T100000
DTEND;TZID=Europe/London:20260417T143000
DTSTAMP:20260422T034710Z
UID:13209661776416400.0achurchnearyou
CATEGORIES:
DESCRIPTION:Holiday club for children at St Clement's Church\, Dartmouth
URL:https://www.achurchnearyou.com/church/8941/service-and-events/events/1
 320966/
END:VEVENT
BEGIN:VEVENT
SUMMARY:Holy Communion\, Village Worship or Service of the Word
DTSTART;TZID=Europe/London:20260419T091500
DTEND;TZID=Europe/London:20260419T100000
DTSTAMP:20260422T034710Z
UID:2371901776586500.0achurchnearyou
CATEGORIES:
DESCRIPTION:Holy Communion\, Village Worship or Service of the Word
GEO:-3.602894;50.384441
LOCATION:St George's Church Dittisham
URL:https://www.achurchnearyou.com/church/8941/service-and-events/events/2
 37190/
END:VEVENT
BEGIN:VEVENT
SUMMARY:Holy Communion\, Village Worship or Service of the Word
DTSTART;TZID=Europe/London:20260426T091500
DTEND;TZID=Europe/London:20260426T100000
DTSTAMP:20260422T034710Z
UID:2371911777191300.0achurchnearyou
CATEGORIES:
DESCRIPTION:Holy Communion\, Village Worship or Service of the Word
GEO:-3.602894;50.384441
LOCATION:St George's Church Dittisham
URL:https://www.achurchnearyou.com/church/8941/service-and-events/events/2
 37191/
END:VEVENT
BEGIN:VEVENT
SUMMARY:Holy Communion\, Village Worship or Service of the Word
DTSTART;TZID=Europe/London:20260503T091500
DTEND;TZID=Europe/London:20260503T100000
DTSTAMP:20260422T034710Z
UID:2371861777796100.0achurchnearyou
CATEGORIES:
DESCRIPTION:Holy Communion\, Village Worship or Service of the Word
GEO:-3.602894;50.384441
LOCATION:St George's Church Dittisham
URL:https://www.achurchnearyou.com/church/8941/service-and-events/events/2
 37186/
END:VEVENT
BEGIN:VEVENT
SUMMARY:Holy Communion\, Village Worship or Service of the Word
DTSTART;TZID=Europe/London:20260510T091500
DTEND;TZID=Europe/London:20260510T100000
DTSTAMP:20260422T034710Z
UID:2371871778400900.0achurchnearyou
CATEGORIES:
DESCRIPTION:Holy Communion\, Village Worship or Service of the Word
GEO:-3.602894;50.384441
LOCATION:St George's Church Dittisham
URL:https://www.achurchnearyou.com/church/8941/service-and-events/events/2
 37187/
END:VEVENT
BEGIN:VEVENT
SUMMARY:Holy Communion\, Village Worship or Service of the Word
DTSTART;TZID=Europe/London:20260517T091500
DTEND;TZID=Europe/London:20260517T100000
DTSTAMP:20260422T034710Z
UID:2371901779005700.0achurchnearyou
CATEGORIES:
DESCRIPTION:Holy Communion\, Village Worship or Service of the Word
GEO:-3.602894;50.384441
LOCATION:St George's Church Dittisham
URL:https://www.achurchnearyou.com/church/8941/service-and-events/events/2
 37190/
END:VEVENT
BEGIN:VEVENT
SUMMARY:Holy Communion\, Village Worship or Service of the Word
DTSTART;TZID=Europe/London:20260524T091500
DTEND;TZID=Europe/London:20260524T100000
DTSTAMP:20260422T034710Z
UID:2371911779610500.0achurchnearyou
CATEGORIES:
DESCRIPTION:Holy Communion\, Village Worship or Service of the Word
GEO:-3.602894;50.384441
LOCATION:St George's Church Dittisham
URL:https://www.achurchnearyou.com/church/8941/service-and-events/events/2
 37191/
END:VEVENT
BEGIN:VEVENT
SUMMARY:5th Sunday Holy Communion or Village Worship
DTSTART;TZID=Europe/London:20260531T091500
DTEND;TZID=Europe/London:20260531T100000
DTSTAMP:20260422T034710Z
UID:2371931780215300.0achurchnearyou
CATEGORIES:
DESCRIPTION:Holy Communion or Village Worship at Dittisham or at one of th
 e three churches in Dartmouth
LOCATION:St George's Church Dittisham
URL:https://www.achurchnearyou.com/church/8941/service-and-events/events/2
 37193/
END:VEVENT
BEGIN:VEVENT
SUMMARY:Holy Communion\, Village Worship or Service of the Word
DTSTART;TZID=Europe/London:20260607T091500
DTEND;TZID=Europe/London:20260607T100000
DTSTAMP:20260422T034710Z
UID:2371861780820100.0achurchnearyou
CATEGORIES:
DESCRIPTION:Holy Communion\, Village Worship or Service of the Word
GEO:-3.602894;50.384441
LOCATION:St George's Church Dittisham
URL:https://www.achurchnearyou.com/church/8941/service-and-events/events/2
 37186/
END:VEVENT
BEGIN:VEVENT
SUMMARY:Holy Communion\, Village Worship or Service of the Word
DTSTART;TZID=Europe/London:20260614T091500
DTEND;TZID=Europe/London:20260614T100000
DTSTAMP:20260422T034710Z
UID:2371871781424900.0achurchnearyou
CATEGORIES:
DESCRIPTION:Holy Communion\, Village Worship or Service of the Word
GEO:-3.602894;50.384441
LOCATION:St George's Church Dittisham
URL:https://www.achurchnearyou.com/church/8941/service-and-events/events/2
 37187/
END:VEVENT
BEGIN:VEVENT
SUMMARY:Holy Communion\, Village Worship or Service of the Word
DTSTART;TZID=Europe/London:20260621T091500
DTEND;TZID=Europe/London:20260621T100000
DTSTAMP:20260422T034710Z
UID:2371901782029700.0achurchnearyou
CATEGORIES:
DESCRIPTION:Holy Communion\, Village Worship or Service of the Word
GEO:-3.602894;50.384441
LOCATION:St George's Church Dittisham
URL:https://www.achurchnearyou.com/church/8941/service-and-events/events/2
 37190/
END:VEVENT
BEGIN:VEVENT
SUMMARY:Holy Communion\, Village Worship or Service of the Word
DTSTART;TZID=Europe/London:20260628T091500
DTEND;TZID=Europe/London:20260628T100000
DTSTAMP:20260422T034710Z
UID:2371911782634500.0achurchnearyou
CATEGORIES:
DESCRIPTION:Holy Communion\, Village Worship or Service of the Word
GEO:-3.602894;50.384441
LOCATION:St George's Church Dittisham
URL:https://www.achurchnearyou.com/church/8941/service-and-events/events/2
 37191/
END:VEVENT
BEGIN:VEVENT
SUMMARY:Holy Communion\, Village Worship or Service of the Word
DTSTART;TZID=Europe/London:20260705T091500
DTEND;TZID=Europe/London:20260705T100000
DTSTAMP:20260422T034710Z
UID:2371861783239300.0achurchnearyou
CATEGORIES:
DESCRIPTION:Holy Communion\, Village Worship or Service of the Word
GEO:-3.602894;50.384441
LOCATION:St George's Church Dittisham
URL:https://www.achurchnearyou.com/church/8941/service-and-events/events/2
 37186/
END:VEVENT
BEGIN:VEVENT
SUMMARY:Holy Communion\, Village Worship or Service of the Word
DTSTART;TZID=Europe/London:20260712T091500
DTEND;TZID=Europe/London:20260712T100000
DTSTAMP:20260422T034710Z
UID:2371871783844100.0achurchnearyou
CATEGORIES:
DESCRIPTION:Holy Communion\, Village Worship or Service of the Word
GEO:-3.602894;50.384441
LOCATION:St George's Church Dittisham
URL:https://www.achurchnearyou.com/church/8941/service-and-events/events/2
 37187/
END:VEVENT
BEGIN:VEVENT
SUMMARY:Holy Communion\, Village Worship or Service of the Word
DTSTART;TZID=Europe/London:20260719T091500
DTEND;TZID=Europe/London:20260719T100000
DTSTAMP:20260422T034710Z
UID:2371901784448900.0achurchnearyou
CATEGORIES:
DESCRIPTION:Holy Communion\, Village Worship or Service of the Word
GEO:-3.602894;50.384441
LOCATION:St George's Church Dittisham
URL:https://www.achurchnearyou.com/church/8941/service-and-events/events/2
 37190/
END:VEVENT
BEGIN:VEVENT
SUMMARY:Holy Communion\, Village Worship or Service of the Word
DTSTART;TZID=Europe/London:20260726T091500
DTEND;TZID=Europe/London:20260726T100000
DTSTAMP:20260422T034710Z
UID:2371911785053700.0achurchnearyou
CATEGORIES:
DESCRIPTION:Holy Communion\, Village Worship or Service of the Word
GEO:-3.602894;50.384441
LOCATION:St George's Church Dittisham
URL:https://www.achurchnearyou.com/church/8941/service-and-events/events/2
 37191/
END:VEVENT
BEGIN:VEVENT
SUMMARY:Holy Communion\, Village Worship or Service of the Word
DTSTART;TZID=Europe/London:20260802T091500
DTEND;TZID=Europe/London:20260802T100000
DTSTAMP:20260422T034710Z
UID:2371861785658500.0achurchnearyou
CATEGORIES:
DESCRIPTION:Holy Communion\, Village Worship or Service of the Word
GEO:-3.602894;50.384441
LOCATION:St George's Church Dittisham
URL:https://www.achurchnearyou.com/church/8941/service-and-events/events/2
 37186/
END:VEVENT
BEGIN:VEVENT
SUMMARY:Holy Communion\, Village Worship or Service of the Word
DTSTART;TZID=Europe/London:20260809T091500
DTEND;TZID=Europe/London:20260809T100000
DTSTAMP:20260422T034710Z
UID:2371871786263300.0achurchnearyou
CATEGORIES:
DESCRIPTION:Holy Communion\, Village Worship or Service of the Word
GEO:-3.602894;50.384441
LOCATION:St George's Church Dittisham
URL:https://www.achurchnearyou.com/church/8941/service-and-events/events/2
 37187/
END:VEVENT
BEGIN:VEVENT
SUMMARY:Holy Communion\, Village Worship or Service of the Word
DTSTART;TZID=Europe/London:20260816T091500
DTEND;TZID=Europe/London:20260816T100000
DTSTAMP:20260422T034710Z
UID:2371901786868100.0achurchnearyou
CATEGORIES:
DESCRIPTION:Holy Communion\, Village Worship or Service of the Word
GEO:-3.602894;50.384441
LOCATION:St George's Church Dittisham
URL:https://www.achurchnearyou.com/church/8941/service-and-events/events/2
 37190/
END:VEVENT
BEGIN:VEVENT
SUMMARY:Holy Communion\, Village Worship or Service of the Word
DTSTART;TZID=Europe/London:20260823T091500
DTEND;TZID=Europe/London:20260823T100000
DTSTAMP:20260422T034710Z
UID:2371911787472900.0achurchnearyou
CATEGORIES:
DESCRIPTION:Holy Communion\, Village Worship or Service of the Word
GEO:-3.602894;50.384441
LOCATION:St George's Church Dittisham
URL:https://www.achurchnearyou.com/church/8941/service-and-events/events/2
 37191/
END:VEVENT
BEGIN:VEVENT
SUMMARY:5th Sunday Holy Communion or Village Worship
DTSTART;TZID=Europe/London:20260830T091500
DTEND;TZID=Europe/London:20260830T100000
DTSTAMP:20260422T034710Z
UID:2371931788077700.0achurchnearyou
CATEGORIES:
DESCRIPTION:Holy Communion or Village Worship at Dittisham or at one of th
 e three churches in Dartmouth
LOCATION:St George's Church Dittisham
URL:https://www.achurchnearyou.com/church/8941/service-and-events/events/2
 37193/
END:VEVENT
BEGIN:VEVENT
SUMMARY:Holy Communion\, Village Worship or Service of the Word
DTSTART;TZID=Europe/London:20260906T091500
DTEND;TZID=Europe/London:20260906T100000
DTSTAMP:20260422T034710Z
UID:2371861788682500.0achurchnearyou
CATEGORIES:
DESCRIPTION:Holy Communion\, Village Worship or Service of the Word
GEO:-3.602894;50.384441
LOCATION:St George's Church Dittisham
URL:https://www.achurchnearyou.com/church/8941/service-and-events/events/2
 37186/
END:VEVENT
BEGIN:VEVENT
SUMMARY:Holy Communion\, Village Worship or Service of the Word
DTSTART;TZID=Europe/London:20260913T091500
DTEND;TZID=Europe/London:20260913T100000
DTSTAMP:20260422T034710Z
UID:2371871789287300.0achurchnearyou
CATEGORIES:
DESCRIPTION:Holy Communion\, Village Worship or Service of the Word
GEO:-3.602894;50.384441
LOCATION:St George's Church Dittisham
URL:https://www.achurchnearyou.com/church/8941/service-and-events/events/2
 37187/
END:VEVENT
BEGIN:VEVENT
SUMMARY:Holy Communion\, Village Worship or Service of the Word
DTSTART;TZID=Europe/London:20260920T091500
DTEND;TZID=Europe/London:20260920T100000
DTSTAMP:20260422T034710Z
UID:2371901789892100.0achurchnearyou
CATEGORIES:
DESCRIPTION:Holy Communion\, Village Worship or Service of the Word
GEO:-3.602894;50.384441
LOCATION:St George's Church Dittisham
URL:https://www.achurchnearyou.com/church/8941/service-and-events/events/2
 37190/
END:VEVENT
BEGIN:VEVENT
SUMMARY:Holy Communion\, Village Worship or Service of the Word
DTSTART;TZID=Europe/London:20260927T091500
DTEND;TZID=Europe/London:20260927T100000
DTSTAMP:20260422T034710Z
UID:2371911790496900.0achurchnearyou
CATEGORIES:
DESCRIPTION:Holy Communion\, Village Worship or Service of the Word
GEO:-3.602894;50.384441
LOCATION:St George's Church Dittisham
URL:https://www.achurchnearyou.com/church/8941/service-and-events/events/2
 37191/
END:VEVENT
END:VCALENDAR
