BEGIN:VCALENDAR
VERSION:2.0
PRODID:-//achurchnearyou.com//eventfeed//EN
CALSCALE:GREGORIAN
METHOD:PUBLISH
X-WR-TIMEZONE:UTC
BEGIN:VEVENT
SUMMARY:Harvest Festival
DTSTART:20241013T090000Z
DTEND:20241013T100000Z
DTSTAMP:20260424T060313Z
UID:11000512024-10-13 09:00:00+00:00achurchnearyou
CATEGORIES:
DESCRIPTION:Harvest Festival Family Service in Church. Followed by tea & c
 offee and… Harvest Lunch in the Village Hall. Please sign the list in C
 hurch if you would like to come to the lunch or contact Steph Webb on 0781
 0685371\n\nThis year there will be a cash collection for Factory Row in Pa
 ignton. Fresh produce is welcome as are the following which will go to the
  foodbank and outreach café at ‘Stepping Stones’ at St John’s in To
 tnes: Long life milk\, sweetcorn\, pasta sauce\, mushy peas\, oats\, non-s
 ugary cereals\, pasta\, dried rice\, honey\, peanut butter\, rice pudding\
 , cooking oil\, soup\, pulses\, washing powder\, toilet rolls & shampoo.
GEO:-3.598138;50.46115
LOCATION:St John Baptist
URL:https://www.achurchnearyou.com/church/8958/service-and-events/events/1
 100051/
END:VEVENT
END:VCALENDAR
