BEGIN:VCALENDAR
VERSION:2.0
PRODID:-//achurchnearyou.com//eventfeed//EN
CALSCALE:GREGORIAN
METHOD:PUBLISH
X-WR-TIMEZONE:UTC
BEGIN:VEVENT
SUMMARY:THE 4
DTSTART;TZID=Europe/London:20270328T160000
DTEND;TZID=Europe/London:20270328T170000
DTSTAMP:20260422T144826Z
UID:11956322027-03-28 16:00:00+01:00achurchnearyou
CATEGORIES:
DESCRIPTION:A different sort of worship
GEO:-3.681207;50.34633
LOCATION:St Michael
URL:https://www.achurchnearyou.com/church/8961/service-and-events/events/1
 195632/
END:VEVENT
END:VCALENDAR
